BEGIN:VCALENDAR
VERSION:2.0
PRODID:-//ChamberMaster//Event Calendar 2.0//EN
METHOD:PUBLISH
X-PUBLISHED-TTL:P3D
REFRESH-INTERVAL:P3D
CALSCALE:GREGORIAN
BEGIN:VEVENT
DTSTART:20080513T123000Z
DTEND:20080513T134500Z
X-MICROSOFT-CDO-ALLDAYEVENT:FALSE
SUMMARY:Home Office Link (HOL)
DESCRIPTION:My Space\, Facebook\, You Tube\, Blogging...\nWho\, What\, Where\, When and HowAre you stressed out wondering if you should be using these social networking sites\, starting your own blog\, joining on line groups?  Join the Home Office Link (HOL) for a basic introduction to this very pertinent information. Our speaker is Chris Jung of Business Communications Corporation\, who has been on the leading edge of technology for 26 years. His achievements have included voice over Internet 10 years before ATT said it could be done. He has provided cyber solutions for over 10 years including the design and implementation of content management companies and colleges. While working with technology Chris\, has kept his focus on business development solutions for SMB and Enterprise. He has worked with Penton Media and Infinity Communications (CBS)and Internet Media Service providers.The Home Office Link meets the 2nd Tuesday of the month to assist home-based and one-person businesses.  Join us for coffee and topics of interest for you and your business.
X-ALT-DESC;FMTTYPE=text/html:<div><span class="Title"><h3 align="center"><font color="#000080">My Space\, Facebook\, You Tube\, Blogging...<br />Who\, What\, Where\, When and How</font></h3><h5 align="left"><h5><font color="#000080"><font color="#808000"><font color="#000080"><font color="#808000">Are you stressed out wondering if you should be using these social networking sites\, starting your own blog\, joining on line groups?&nbsp\; Join the Home Office Link (HOL) for a basic introduction to this very pertinent information.&nbsp\;</font></font></font></font></h5><h5><font color="#000080"><font color="#808000"><font color="#000080"><font color="#000080"><div>Our speaker is <font size="4">Chris Jung of Business Communications Corporation</font>\, who&nbsp\;has been on the leading edge of technology for 26 years. His achievements have included voice over Internet 10 years before ATT said it could be done. He has provided cyber solutions for over 10 years including the design and implementation of content management companies and colleges. While working with technology Chris\, has kept his focus on business development solutions for SMB and Enterprise. He has worked with Penton Media and Infinity Communications (CBS)and Internet Media Service providers.</div></font></font></font></font></h5><div><font color="#000080" size="3">The Home Office Link meets the 2nd Tuesday of the month to assist home-based and one-person businesses.&nbsp\; Join us for coffee and topics of interest for you and your business.</font></div></h5></span></div>
LOCATION:Beachwood Chamber of CommerceThree Commerce Park Square23230 Chagrin Blvd. Suite 900(Corner of Chagrin & Green. Enter from Green across from Golf Course)
UID:e.368.25
SEQUENCE:3
DTSTAMP:20260424T084700Z
URL:https://public.beachwood.org/events/details/home-office-link-hol-05-13-2008-25
END:VEVENT

END:VCALENDAR
