BEGIN:VCALENDAR
VERSION:2.0
PRODID:-//ChamberMaster//Event Calendar 2.0//EN
METHOD:PUBLISH
X-PUBLISHED-TTL:P3D
REFRESH-INTERVAL:P3D
CALSCALE:GREGORIAN
BEGIN:VEVENT
DTSTART:20080408T123000Z
DTEND:20080408T134500Z
X-MICROSOFT-CDO-ALLDAYEVENT:FALSE
SUMMARY:Home Office Link (HOL)
DESCRIPTION:Do It Yourself DesignIs it possible to create some of your own marketing materials?\nWhen should you hire a professional?\nAnd what can you do on your own?\nDonna Herrle\, owner of Drawing Conclusions\, will give valuable tips to entrepreneurs who would like to try to produce their own graphic design projects. She will discuss aspects from fonts to file types so your artwork can have a professional look. Donna has been a successful home-based business owner for the last 5 years and is a wonderful example of how we can maintain a totally professional image while working from home.\n\nWhat started as a part-time\, free-lance venture became a full-time endeavor in 2002. Since then\, she has grown her client base by 20 times\, has been honored by peers\, featured in Entrepreneur Magazine\, the Pittsburgh Post Gazette\, and The Edge 1550 AM radio.  In 2003\, Drawing Conclusions won an international Gold Quill Award for an invitation design.  She leads her team in graphic design\, communications\, and project management.The Home Office Link meets the 2nd Tuesday of the month to assist home-based and one-person businesses.  Join us for coffee and topics of interest for you and your business.
X-ALT-DESC;FMTTYPE=text/html:<div><span class="Title"><h3 align="center"><font color="#000080">Do It Yourself Design</font></h3><h5 align="left"><font color="#808000">Is it possible to create some of your own marketing materials?<br />When should you hire a professional?<br />And what can you do on your own?<br /></font><h5><font color="#000080"><font color="#808000"><em><font color="#000080"><font color="#808000">Donna Herrle</font></font></em></font>\, owner of <font color="#808000"><em>Drawing Conclusions</em></font>\, will give valuable tips to entrepreneurs who would like to try to produce their own graphic design projects. She will discuss aspects from fonts to file types so your artwork can have a professional look. Donna has been a successful home-based business owner for the last 5 years and is a wonderful example of how we can maintain a totally professional image while working from home.<br /><br />What started as a part-time\, free-lance venture became a full-time endeavor in 2002. Since then\, she has grown her client base by 20 times\, has been honored by peers\, featured in <em>Entrepreneur Magazine\, the Pittsburgh Post Gazette</em>\, and <em>The Edge 1550 AM radio</em>.&nbsp\; In 2003\, <font color="#808000"><em>Drawing Conclusions</em></font> won an international Gold Quill Award for an invitation design.&nbsp\; She leads her team in graphic design\, communications\, and project management.</font></h5><div><font color="#000080" size="3">The Home Office Link meets the 2nd Tuesday of the month to assist home-based and one-person businesses.&nbsp\; Join us for coffee and topics of interest for you and your business.</font></div></h5></span></div>
LOCATION:Beachwood Chamber of CommerceThree Commerce Park Square23230 Chagrin Blvd. Suite 900(Corner of Chagrin & Green. Enter from Green across from Golf Course)
UID:e.368.2
SEQUENCE:3
DTSTAMP:20260424T114125Z
URL:https://public.beachwood.org/events/details/home-office-link-hol-04-08-2008-2
END:VEVENT

END:VCALENDAR
