BEGIN:VCALENDAR
VERSION:2.0
PRODID:-//ChamberMaster//Event Calendar 2.0//EN
METHOD:PUBLISH
X-PUBLISHED-TTL:P3D
REFRESH-INTERVAL:P3D
CALSCALE:GREGORIAN
BEGIN:VEVENT
DTSTART:20090210T133000Z
DTEND:20090210T144500Z
X-MICROSOFT-CDO-ALLDAYEVENT:FALSE
SUMMARY:HOME OFFICE LINK - FEB2009
DESCRIPTION:Balancing Your Home Office \nand Your Home LifeFebruary's Home Office Link (HOL) will be a roundtable discussion to discuss topics related to balancing your home life and office life.What are my "hours?"Do I always answer my phone?Am I available 24/7?What about the laundry\, kids\, family members\, exercise\, marketing\, paper work\, and actually doing what it is I do?How do I balance it all and present a professional image?Join HOL on Tuesday\, February 10th\, 8:30-9:45 AM\, at the Chamber offices\, for this lively discussion.  Cost is $5 per person\, payable at the door by check or with small bills. RSVPs appreciated to goddessws@aol.com but are not required.This program is open to both Chamber members and nonmembers.Coffee and tea provided.
X-ALT-DESC;FMTTYPE=text/html:<h4 align="center"><font color="#333399">Balancing Your Home Office&nbsp\;<br /></font><font color="#333399">and Your Home Life</font></h4><p><font color="#333399">February&rsquo\;s Home Office Link (HOL) will be a roundtable discussion to discuss topics related to balancing your home life and office life.</font></p><ul><li><font color="#333399">What are my &quot\;hours?&quot\;</font></li><li><font color="#333399">Do I always answer my phone?</font></li><li><font color="#333399">Am I available 24/7?</font></li><li><font color="#333399">What about the laundry\, kids\, family members\, exercise\, marketing\, paper work\, and actually doing what it is I do?</font></li><li><font color="#333399">How do I balance it all and present a professional image?</font></li></ul><div><font color="#333399">Join HOL on Tuesday\, February 10th\, 8:30-9:45 AM\, at the Chamber offices\,&nbsp\;for this lively discussion.&nbsp\;</font></div><div>&nbsp\;</div><div><font color="#333399">Cost is $5 per person\, payable at the door by check or with small bills.</font></div><div>&nbsp\;</div><div><font color="#333399">RSVPs appreciated to <a href="mailto:goddessws@aol.com">goddessws@aol.com</a> but are not required.</font></div><div><font color="#333399">This program is open to both Chamber members and nonmembers.</font></div><div><font color="#333399">Coffee and tea provided.</font></div>
LOCATION:Beachwood Chamber of CommerceCommerce Park Square\, Bldg. 323230 Chagrin Blvd.\, Suite 900(216) 831-0003
UID:e.368.142
SEQUENCE:3
DTSTAMP:20260423T223358Z
URL:https://public.beachwood.org/events/details/home-office-link-feb2009-02-10-2009-142
END:VEVENT

END:VCALENDAR
