BEGIN:VCALENDAR
VERSION:2.0
PRODID:-//ChamberMaster//Event Calendar 2.0//EN
METHOD:PUBLISH
X-PUBLISHED-TTL:P3D
REFRESH-INTERVAL:P3D
CALSCALE:GREGORIAN
BEGIN:VEVENT
DTSTART:20081209T133000Z
DTEND:20081209T144500Z
X-MICROSOFT-CDO-ALLDAYEVENT:FALSE
SUMMARY:HOME OFFICE LINK-DEC
DESCRIPTION:Home-Based Businesses: \nDispelling the Myths Topic of next Home Office Link on Tuesday\, December 9th\, 8:30-9:45 AM at the Beachwood Chamber of Commerce office. COSE (Council of Smaller Enterprises) conducted its first Small Business and Home-Based Business Survey of Firms in the fall of 2008. The goal was to better understand the disparities between home and non-home based businesses and the characteristics of these companies\, so that COSE could both quantify the realities of operating a home-based business and improve its support of the home-based business sector. Our HOL speaker will be Pat Pell\, COSE Home-Based Network Leader\, who designs quality educational and networking programs\, as well as provides resources and opportunities for home-based businesses.  She is a former home-based business owner herself and for many years served clients as a networking consultant. Most recently\, she was the Executive Director of the Parma-area Chamber of Commerce. Cost: $5\, payable at the door in small bills or by check. Coffee and tea included. RSVPs to goddessws@aol.com  appreciated but not required).
X-ALT-DESC;FMTTYPE=text/html:<div align="center"><font color="#000080" size="4">Home-Based Businesses:&nbsp\;<br />Dispelling the Myths</font></div><div>&nbsp\;</div><div>Topic of next Home Office Link on Tuesday\, December 9th\, 8:30-9:45 AM at the Beachwood Chamber of Commerce office.</div><div>&nbsp\;</div><div>COSE (Council of Smaller Enterprises) conducted its first Small Business and Home-Based Business Survey of Firms in the fall of 2008. The goal was to better understand the disparities between home and non-home based businesses and the characteristics of these companies\, so that COSE could both quantify the realities of operating a home-based business and improve its support of the home-based business sector.</div><div>&nbsp\;</div><div>Our HOL speaker will be Pat Pell\, COSE Home-Based Network Leader\, who designs quality educational and networking programs\, as well as provides resources and opportunities for home-based businesses.&nbsp\; She is a former home-based business owner herself and for many years served clients as a networking consultant. Most recently\, she was the Executive Director of the Parma-area Chamber of Commerce.</div><div>&nbsp\;</div><div>Cost: $5\, payable at the door in small bills or by check.</div><div>&nbsp\;</div><div>Coffee and tea included.</div><div>&nbsp\;</div><div>RSVPs to <a href="mailto:goddessws@aol.com&nbsp\;">goddessws@aol.com&nbsp\;</a>&nbsp\;appreciated but not required).</div><div>&nbsp\;</div>
LOCATION:Beachwood ChamberThree Commerce Park Square23230 Chagrin Blvd\, #900Tel: 216-831-0003
UID:e.368.125
SEQUENCE:3
DTSTAMP:20260423T234635Z
URL:https://public.beachwood.org/events/details/home-office-link-dec-12-09-2008-125
END:VEVENT

END:VCALENDAR
