BEGIN:VCALENDAR
VERSION:2.0
PRODID:-//ChamberMaster//Event Calendar 2.0//EN
METHOD:PUBLISH
X-PUBLISHED-TTL:P3D
REFRESH-INTERVAL:P3D
CALSCALE:GREGORIAN
BEGIN:VEVENT
DTSTART:20080813T003000Z
DTEND:20080813T014500Z
X-MICROSOFT-CDO-ALLDAYEVENT:FALSE
SUMMARY:HOME OFFICE LINK-AUGUST
DESCRIPTION:Home Office Link\n(for home-based & 1-person businesses) Join us on Tuesday\, August 12th\,8:30-9:45 AM as Jim Cermak\, Owner of Cermak Marketing\, \ndiscusses 3 Laws\, 1 Secret\, & 7 Decisions Jim Cermak willdiscuss the 3 Laws for Effective Marketing\, which every piece of marketing needs to havereveal his big secret for direct mail success\, andreveal the 7 Decisions that will lead to success in both business and lifeJim Cermak is the owner of Cermak Marketing\, a professional marketing\, coaching\, and consulting company.  Jim has been marketing for over 20 years and has served companies such as Roadway Express\, The Original Cookie Company\, MAGNET\, Venture Lighting\, and dozens of small businesses. Chamber membership is not required.  Cost is $5\, payable at the door in small bills or by check.  Coffee and tea provided. RSVP to goddessws@aol.com.  Reservations appreciated but not required.
X-ALT-DESC;FMTTYPE=text/html:<div align="center">&nbsp\;</div><div align="center"><font color="#000080" size="3"><strong>Home Office Link<br /></strong><font size="2">(for home-based &amp\; 1-person businesses)</font></font></div><div align="center">&nbsp\;</div><div align="center"><font color="#000080" size="3">Join us on <strong>Tuesday\, August 12th\,</strong></font></div><div align="center"><font color="#000080" size="3"><strong>8:30-9:45 AM</strong> as </font></div><div align="center"><font color="#000080" size="3"><strong>Jim Cermak</strong>\, Owner of Cermak Marketing\,&nbsp\;<br />discusses</font></div><div align="center">&nbsp\;</div><div align="center"><font color="#000080" size="4"><strong>3 Laws\, 1 Secret\, &amp\; 7 Decisions</strong></font></div><div align="center">&nbsp\;</div><div align="left"><font color="#000080"><em>Jim Cermak</em> will</font></div><ul><li><font color="#000080">discuss </font><font color="#000080">the 3 Laws for Effective Marketing\, which every piece of marketing needs to have</font></li><li><font color="#000080">reveal his big secret for direct mail success\, and</font></li><li><font color="#000080">reveal the 7 Decisions that will lead to success in both business and life</font></li></ul><div><font color="#000080"><em>Jim Cermak</em> is the owner of Cermak Marketing\, a professional marketing\, coaching\, and consulting company.&nbsp\; Jim has been marketing for over 20 years and has served companies such as Roadway Express\, The Original Cookie Company\, MAGNET\, Venture Lighting\, and dozens of small businesses.</font></div><div>&nbsp\;</div><div><font color="#000080">Chamber membership is not required.&nbsp\; Cost is $5\, payable at the door in small bills or by check.&nbsp\; Coffee and tea provided.</font></div><div>&nbsp\;</div><div><font color="#000080">RSVP to <a href="mailto:goddessws@aol.com">goddessws@aol.com</a>.&nbsp\; Reservations appreciated but not required.</font></div><div align="left">&nbsp\;</div>
LOCATION:Beachwood Chamber of CommerceThree Commerce Park Square23230 Chagrin Blvd.\, Suite 900Beachwood\, OH 44122216-831-0003
UID:e.368.63
SEQUENCE:3
DTSTAMP:20260424T043846Z
URL:https://public.beachwood.org/events/details/home-office-link-august-08-12-2008-63
END:VEVENT

END:VCALENDAR
