BEGIN:VCALENDAR
VERSION:2.0
PRODID:-//ChamberMaster//Event Calendar 2.0//EN
METHOD:PUBLISH
X-PUBLISHED-TTL:P3D
REFRESH-INTERVAL:P3D
CALSCALE:GREGORIAN
BEGIN:VEVENT
DTSTART:20090414T123000Z
DTEND:20090414T134500Z
X-MICROSOFT-CDO-ALLDAYEVENT:FALSE
SUMMARY:HOME OFFICE LINK - APRIL
DESCRIPTION:Where Did My Day/Week/Month Go? Does it feel like you need 32 hour days to handle all your responsibilities?Do you feel overwhelmed trying to balance everything?Multi-tasking: Good or bad for you?Do you need help prioritizing?Join other home-based business owners for a lively roundtable discussion and some helpful tips to help you manage your time effectively. Cost is $5 payable at the door in small bills or by check.Coffee and tea included. RSVPs appreciated but not required. RSVP to Wendy Schwarz at goddessws@aol.com
X-ALT-DESC;FMTTYPE=text/html:<div align="center"><font color="#000080" size="3"><strong>Where Did My Day/Week/Month Go?</strong></font></div><div>&nbsp\;</div><ul><li dir="ltr" style="margin-right: 0px"><font color="#000080">Does it feel like you need 32 hour days to handle all your responsibilities?</font></li><li dir="ltr" style="margin-right: 0px"><font color="#000080">Do you feel overwhelmed trying to balance everything?</font></li><li dir="ltr" style="margin-right: 0px"><font color="#000080">Multi-tasking: Good or bad for you?</font></li><li dir="ltr" style="margin-right: 0px"><font color="#000080">Do you need help prioritizing?</font></li></ul><div><font color="#000080">Join other home-based business owners for a lively roundtable discussion and some helpful tips to help you manage your time effectively.</font></div><div><font color="#000080">&nbsp\;</font></div><div><font color="#000080">Cost is $5 payable at the door in small bills or by check.</font></div><div><font color="#000080">Coffee and tea included.</font></div><div><font color="#000080">&nbsp\;</font></div><div><font color="#000080">RSVPs appreciated but not required. RSVP to Wendy Schwarz at </font><a href="mailto:goddessws@aol.com"><font color="#000080">goddessws@aol.com</font></a></div><div><font color="#000080">&nbsp\;</font></div>
LOCATION:Beachwood Chamber of Commerce Three Commerce Park Square 23230 Chagrin Blvd\, Suite 900 (216-831-0003)
UID:e.368.176
SEQUENCE:3
DTSTAMP:20260423T192457Z
URL:https://public.beachwood.org/events/details/home-office-link-april-04-14-2009-176
END:VEVENT

END:VCALENDAR
