BEGIN:VCALENDAR
VERSION:2.0
PRODID:-//ChamberMaster//Event Calendar 2.0//EN
METHOD:PUBLISH
X-PUBLISHED-TTL:P3D
REFRESH-INTERVAL:P3D
CALSCALE:GREGORIAN
BEGIN:VEVENT
DTSTART:20081206T150000Z
DTEND:20081207T210000Z
X-MICROSOFT-CDO-ALLDAYEVENT:FALSE
SUMMARY:Holiday Boutique-Beachwood Arts Council
DESCRIPTION:The Beachwood Arts Council presents ... HOLIDAY BOUTIQUESaturday & Sunday\, December 6 & 7at the Beachwood Community Center Featuring ...handmade clothing for children and adultsknitwearpursesT-shirtsjewelrywood novelties & toysphotographyanimal portraitspaintingssilk scarvesspecial occasion booksgreeting cardspotteryother gift items
X-ALT-DESC;FMTTYPE=text/html:<div align="center"><font color="#993300" size="2"><strong>The Beachwood Arts Council presents ...</strong></font></div><div>&nbsp\;</div><div align="center"><strong><font color="#336600" size="3">HOLIDAY BOUTIQUE</font></strong></div><div align="center"><strong><font color="#336600" size="3">Saturday &amp\; Sunday\, December 6 &amp\; 7</font></strong></div><div align="center"><strong><font color="#336600" size="3">at the Beachwood Community Center</font></strong></div><div><font size="3">&nbsp\;</font></div><div><font color="#993300" size="3"><strong>Featuring ...</strong></font></div><ul><li><font color="#339966" size="2"><strong>handmade clothing for children and adults</strong></font></li><li><font color="#339966" size="2"><strong>knitwear</strong></font></li><li><font color="#339966" size="2"><strong>purses</strong></font></li><li><font color="#339966" size="2"><strong>T-shirts</strong></font></li><li><font color="#339966" size="2"><strong>jewelry</strong></font></li><li><font color="#339966" size="2"><strong>wood novelties &amp\; toys</strong></font></li><li><font color="#339966" size="2"><strong>photography</strong></font></li><li><font color="#339966" size="2"><strong>animal portraits</strong></font></li><li><font color="#339966" size="2"><strong>paintings</strong></font></li><li><font color="#339966" size="2"><strong>silk scarves</strong></font></li><li><font color="#339966" size="2"><strong>special occasion books</strong></font></li><li><font color="#339966" size="2"><strong>greeting cards</strong></font></li><li><font color="#339966" size="2"><strong>pottery</strong></font></li><li><font color="#339966" size="2"><strong>other gift items</strong></font></li></ul>
LOCATION:Beachwood Community Center25225 Fairmount Blvd.
UID:e.368.117
SEQUENCE:3
DTSTAMP:20260423T235036Z
URL:https://public.beachwood.org/events/details/holiday-boutique-beachwood-arts-council-12-06-2008-117
END:VEVENT

END:VCALENDAR
