BEGIN:VCALENDAR
VERSION:2.0
PRODID:-//ChamberMaster//Event Calendar 2.0//EN
METHOD:PUBLISH
X-PUBLISHED-TTL:P3D
REFRESH-INTERVAL:P3D
CALSCALE:GREGORIAN
BEGIN:VEVENT
DTSTART:20141109T190000Z
DTEND:20141109T200000Z
X-MICROSOFT-CDO-ALLDAYEVENT:FALSE
SUMMARY:History of Jazz and American Classics
DESCRIPTION:The Eric Everett Jazz Ensemble will perform and discuss American jazz and Latin classics by composers Miles Davis\, John Coltrane\, Duke Ellington\, Bill Evans\, and more
X-ALT-DESC;FMTTYPE=text/html:The Eric Everett Jazz Ensemble will perform and discuss American jazz and Latin classics by composers Miles Davis\, John Coltrane\, Duke Ellington\, Bill Evans\, and more
LOCATION:Beachwood Branch of Cuyahoga County Public Library 25501 Shaker Blvd Beachwood OH 44122
UID:e.368.1192
SEQUENCE:3
DTSTAMP:20260419T225951Z
URL:https://public.beachwood.org/events/details/history-of-jazz-and-american-classics-11-09-2014-1192
END:VEVENT

END:VCALENDAR
