BEGIN:VCALENDAR
VERSION:2.0
PRODID:-//ChamberMaster//Event Calendar 2.0//EN
METHOD:PUBLISH
X-PUBLISHED-TTL:P3D
REFRESH-INTERVAL:P3D
CALSCALE:GREGORIAN
BEGIN:VEVENT
DTSTART:20141218T000000Z
DTEND:20141218T013000Z
X-MICROSOFT-CDO-ALLDAYEVENT:FALSE
SUMMARY:History Book Club
DESCRIPTION:Join us to discuss The Second Amendment by Michael Waldman
X-ALT-DESC;FMTTYPE=text/html:Join us to discuss&nbsp\;<em>The Second Amendment&nbsp\;</em>by Michael Waldman
LOCATION:Beachwood Branch of Cuyahoga County Public Library 25501 Shaker Blvd Beachwood OH 44122
UID:e.368.1256
SEQUENCE:3
DTSTAMP:20260419T213350Z
URL:https://public.beachwood.org/events/details/history-book-club-12-17-2014-1256
END:VEVENT

END:VCALENDAR
