BEGIN:VCALENDAR
VERSION:2.0
PRODID:-//ChamberMaster//Event Calendar 2.0//EN
METHOD:PUBLISH
X-PUBLISHED-TTL:P3D
REFRESH-INTERVAL:P3D
CALSCALE:GREGORIAN
BEGIN:VEVENT
DTSTART:20140820T230000Z
DTEND:20140821T003000Z
X-MICROSOFT-CDO-ALLDAYEVENT:FALSE
SUMMARY:History Book Club
DESCRIPTION:Join us to discuss The Manor: Three Centuries at a Slave Plantation on Long Island by Mac K. Griswold
X-ALT-DESC;FMTTYPE=text/html:Join us to discuss The Manor: Three Centuries at a Slave Plantation on Long Island by Mac K. Griswold
LOCATION:Beachwood Branch of Cuyahoga County Public Library 25501 Shaker Blvd Beachwood OH 44122
UID:e.368.1144
SEQUENCE:3
DTSTAMP:20260420T030611Z
URL:https://public.beachwood.org/events/details/history-book-club-08-20-2014-1144
END:VEVENT

END:VCALENDAR
