BEGIN:VCALENDAR
VERSION:2.0
PRODID:-//ChamberMaster//Event Calendar 2.0//EN
METHOD:PUBLISH
X-PUBLISHED-TTL:P3D
REFRESH-INTERVAL:P3D
CALSCALE:GREGORIAN
BEGIN:VEVENT
DTSTART:20140626T140000Z
DTEND:20140626T180000Z
X-MICROSOFT-CDO-ALLDAYEVENT:FALSE
SUMMARY:Hiring our Heroes Job Fair!
DESCRIPTION:Please join Vector Technical Inc. at the Hiring our Heroes Job Fair on June 26\, 2014 from 10:00am to 2:00pm
X-ALT-DESC;FMTTYPE=text/html:Please join Vector Technical Inc. at the Hiring our Heroes Job Fair on June 26\, 2014 from 10:00am to 2:00pm
LOCATION:Cleveland Public Auditorium & Conference Center 500 Lakeside Avenue Cleveland\, Ohio 44111
UID:e.368.1138
SEQUENCE:3
DTSTAMP:20260420T060901Z
URL:https://public.beachwood.org/events/details/hiring-our-heroes-job-fair-06-26-2014-1138
END:VEVENT

END:VCALENDAR
