BEGIN:VCALENDAR
VERSION:2.0
PRODID:-//ChamberMaster//Event Calendar 2.0//EN
METHOD:PUBLISH
X-PUBLISHED-TTL:P3D
REFRESH-INTERVAL:P3D
CALSCALE:GREGORIAN
BEGIN:VEVENT
DTSTART:20140712T200000Z
DTEND:20140712T210000Z
X-MICROSOFT-CDO-ALLDAYEVENT:FALSE
SUMMARY:Hathaway Brown Theater Institute Sneak Peek: You're a Good Man Charlie Brown
DESCRIPTION:Bring the whole family for a sneak peek of the Tony award winning musical "You're a Good Man Charlie Brown" based on the beloved comic strip by Charles Shultz.See Charlie Brown\, Snoopy\, Schroeder and more brought to life by the talented young performers of the Hathaway Brown Theater Institute. Free and open to all
X-ALT-DESC;FMTTYPE=text/html:Bring the whole family for a sneak peek of the Tony award winning musical &quot\;You&#39\;re a Good Man Charlie Brown&quot\; based on the beloved comic strip by Charles Shultz.See Charlie Brown\, Snoopy\, Schroeder and more brought to life by the talented young performers of the Hathaway Brown Theater Institute. Free and open to all
LOCATION:Beachwood Branch of Cuyahoga County Public Library 25501 Shaker Blvd Beachwood OH 44122
UID:e.368.1141
SEQUENCE:3
DTSTAMP:20260420T044739Z
URL:https://public.beachwood.org/events/details/hathaway-brown-theater-institute-sneak-peek-you-re-a-good-man-charlie-brown-07-12-2014-1141
END:VEVENT

END:VCALENDAR
