BEGIN:VCALENDAR
VERSION:2.0
PRODID:-//ChamberMaster//Event Calendar 2.0//EN
METHOD:PUBLISH
X-PUBLISHED-TTL:P3D
REFRESH-INTERVAL:P3D
CALSCALE:GREGORIAN
BEGIN:VEVENT
DTSTART:20150501T190000Z
DTEND:20150531T230000Z
X-MICROSOFT-CDO-ALLDAYEVENT:FALSE
SUMMARY:Happy Hour at Valenti's!
DESCRIPTION:Happy Hour at Valenti's Ristorante!  Fabulous prices\, excellent appetizers -- Delicious menu! \n\n\n\nDaily\, M-Saturday - 3:00 to 7:00 - Come and visit us!  We would love to serve you!
X-ALT-DESC;FMTTYPE=text/html:Happy Hour at Valenti&#39\;s Ristorante!&nbsp\; Fabulous prices\, excellent appetizers -- Delicious menu!&nbsp\;<br />\n<br />\nDaily\, M-Saturday - 3:00 to 7:00 - Come and visit us!&nbsp\; We would love to serve you!
LOCATION:3365 Richmond Road
UID:e.368.3731
SEQUENCE:3
DTSTAMP:20260419T120949Z
URL:https://public.beachwood.org/events/details/happy-hour-at-valenti-s-05-01-2015-3731
END:VEVENT

END:VCALENDAR
