BEGIN:VCALENDAR
VERSION:2.0
PRODID:-//ChamberMaster//Event Calendar 2.0//EN
METHOD:PUBLISH
X-PUBLISHED-TTL:P3D
REFRESH-INTERVAL:P3D
CALSCALE:GREGORIAN
BEGIN:VEVENT
DTSTART:20150302T200000Z
DTEND:20150303T000000Z
X-MICROSOFT-CDO-ALLDAYEVENT:FALSE
SUMMARY:Happy Hour at The Pub Beachwood
DESCRIPTION:Join us for Happy Hour from 3:00-7:00pm!\n\n \n\nEnjoy $3.95 Appetizers and the following drink specials:\n\n- $3 Schooner Draughts\n\n- $4 Three Olives Vodka & Premium Well Drinks\n\n- $5 Select Wines\n\n- $6 Martinis & Favorites
X-ALT-DESC;FMTTYPE=text/html:<div style="text-align: center\;"><span style="font-size:22px">Join us for Happy Hour from 3:00-7:00pm!<br />\n&nbsp\;<br />\nEnjoy $3.95 Appetizers and the following drink specials:<br />\n- $3 Schooner Draughts<br />\n- $4 Three Olives Vodka &amp\; Premium Well Drinks<br />\n- $5 Select Wines<br />\n- $6 Martinis &amp\; Favorites</span></div>\n
LOCATION:The Pub Beachwood is located at Beachwood Place
UID:e.368.1507
SEQUENCE:3
DTSTAMP:20260419T190052Z
URL:https://public.beachwood.org/events/details/happy-hour-at-the-pub-beachwood-03-02-2015-1507
END:VEVENT

END:VCALENDAR
