BEGIN:VCALENDAR
VERSION:2.0
PRODID:-//ChamberMaster//Event Calendar 2.0//EN
METHOD:PUBLISH
X-PUBLISHED-TTL:P3D
REFRESH-INTERVAL:P3D
CALSCALE:GREGORIAN
BEGIN:VEVENT
DTSTART:20180731T213000Z
DTEND:20180731T233000Z
X-MICROSOFT-CDO-ALLDAYEVENT:FALSE
SUMMARY:Happy Hour
DESCRIPTION:The principals of BauerGriffth invite our non-profit and for-profit clients\, associates\, colleagues and friends for spirits and libations\, and unique networking opportunities.\n\nWhen:          July 31\, 2018\n\nTime:            5:30   7:30\n\nWhere:         Bonefish Grill\, 6150 Rockside Place\, Independence\, Ohio\n\nCost:             $10 at the door\n\n\n\nCash bar\n\nHors d'oevres provided\n\n\n\nWhere Doing Good is Good for Business
X-ALT-DESC;FMTTYPE=text/html:<p style="background: rgb(238\, 238\, 238) none repeat scroll 0% 0%\; border: 1px solid rgb(204\, 204\, 204)\; padding: 5px 10px\;"><big><var><span style="font-size:14px\;">The principals of BauerGriffth invite our non-profit and for-profit clients\, associates\, colleagues and friends for spirits and libations\, and unique networking opportunities.</span></var></big></p>\n\n<p style="background: rgb(238\, 238\, 238) none repeat scroll 0% 0%\; border: 1px solid rgb(204\, 204\, 204)\; padding: 5px 10px\;"><big><var><span style="font-size:14px\;">When:&nbsp\;&nbsp\;&nbsp\;&nbsp\;&nbsp\;&nbsp\;&nbsp\;&nbsp\;&nbsp\; July 31\, 2018</span></var></big></p>\n\n<p style="background: rgb(238\, 238\, 238) none repeat scroll 0% 0%\; border: 1px solid rgb(204\, 204\, 204)\; padding: 5px 10px\;"><strong>Time</strong>:&nbsp\;&nbsp\;&nbsp\;&nbsp\;&nbsp\;&nbsp\;&nbsp\;&nbsp\;&nbsp\;&nbsp\;&nbsp\; 5:30 &ndash\; 7:30</p>\n\n<p style="background: rgb(238\, 238\, 238) none repeat scroll 0% 0%\; border: 1px solid rgb(204\, 204\, 204)\; padding: 5px 10px\;"><big><var><span style="font-size:14px\;">Where:&nbsp\;&nbsp\;&nbsp\;&nbsp\;&nbsp\;&nbsp\;&nbsp\;&nbsp\; Bonefish Grill\, 6150 Rockside Place\, Independence\, Ohio</span></var></big></p>\n\n<p style="background: rgb(238\, 238\, 238) none repeat scroll 0% 0%\; border: 1px solid rgb(204\, 204\, 204)\; padding: 5px 10px\;"><big><var><span style="font-size:14px\;">Cost:&nbsp\;&nbsp\;&nbsp\;&nbsp\;&nbsp\;&nbsp\;&nbsp\;&nbsp\;&nbsp\;&nbsp\;&nbsp\;&nbsp\; $10 at the door</span></var></big></p>\n\n<p style="background: rgb(238\, 238\, 238) none repeat scroll 0% 0%\; border: 1px solid rgb(204\, 204\, 204)\; padding: 5px 10px\;"><br />\n<big><var><span style="font-size:14px\;">Cash bar<br />\nHors d&rsquo\;oevres provided</span></var></big></p>\n\n<p style="text-align: center\;"><br />\n<var><span style="font-size:14px\;"><span style="font-family:times new roman\;"><em>Where Doing Good is Good for Business</em></span></span></var></p>\n
LOCATION:Bonefish Grill\, 6150 Rockside Place\, Independence\, Ohio
UID:e.368.7973
SEQUENCE:3
DTSTAMP:20260420T185103Z
URL:https://public.beachwood.org/events/details/happy-hour-7973
END:VEVENT

END:VCALENDAR
