BEGIN:VCALENDAR
VERSION:2.0
PRODID:-//ChamberMaster//Event Calendar 2.0//EN
METHOD:PUBLISH
X-PUBLISHED-TTL:P3D
REFRESH-INTERVAL:P3D
CALSCALE:GREGORIAN
BEGIN:VEVENT
DTSTART:20080925T153000Z
DTEND:20080925T173000Z
X-MICROSOFT-CDO-ALLDAYEVENT:FALSE
SUMMARY:GREENING YOUR BUSINESS
DESCRIPTION:Greening Your Business \nA FREE Lunch & Learn ProgramMembers of the Beachwood\, Warrensville Hts\, and Heights Regional Chambers are teaming up with Cuyahoga Community College's Green Academy for this exciting program to learn the benefits of the triple bottom line: People\, Plant\, and Profit!  The class is FREE to Chamber members and includes lunch.The program will be held on Thursday\, September 25th\, 11:30 AM-1:30 PM\, in Room 233 of Corporate College East (4400 Richmond Road\, Warresville Hts).Learn how your business can set up an infrastructure for sustainability that will lead to increased efficiency and marketing opportunities.  Some of the topics that will be covered include: green teams\, waste reduction\, green procurement\, saving energy\, and transportation.Cost (includes lunch): FREE to Chamber members\; $15 for nonmembersRSVP: Directly to Tri-C at 216-987-2973 or by emailing sorell.shepard@tri-c.edu.
X-ALT-DESC;FMTTYPE=text/html:<p align="center"><font color="#336600" size="4">Greening Your Business</font>&nbsp\;<br /><font color="#336600"><strong>A FREE Lunch &amp\; Learn Program</strong></font></p><p align="left">Members of the Beachwood\, Warrensville Hts\, and Heights Regional Chambers are teaming up with Cuyahoga Community College's Green Academy for this exciting program to learn the benefits of the triple bottom line: People\, Plant\, and Profit!&nbsp\; The class is FREE to Chamber members and includes lunch.</p><p align="left">The program will be held on Thursday\, September 25th\, 11:30 AM-1:30 PM\, in Room 233 of Corporate College East (4400 Richmond Road\, Warresville Hts).</p><p>Learn how your business can set up an infrastructure for sustainability that will lead to increased efficiency and marketing opportunities.&nbsp\; Some of the topics that will be covered include: green teams\, waste reduction\, green procurement\, saving energy\, and transportation.</p><p><font color="#336600"><strong>Cost </strong></font>(includes lunch): FREE to Chamber members\; $15 for nonmembers</p><p><font color="#336600"><strong>RSVP</strong>:</font> Directly to Tri-C at 216-987-2973 or by emailing <a href="mailto:sorell.shepard@tri-c.edu">sorell.shepard@tri-c.edu</a>.</p><p>&nbsp\;</p>
LOCATION:Corporate College East4400 Richmond Road(by I-271 & Emery)Warrensville Hts
UID:e.368.88
SEQUENCE:3
DTSTAMP:20260424T032201Z
URL:https://public.beachwood.org/events/details/greening-your-business-09-25-2008-88
END:VEVENT

END:VCALENDAR
