BEGIN:VCALENDAR
VERSION:2.0
PRODID:-//ChamberMaster//Event Calendar 2.0//EN
METHOD:PUBLISH
X-PUBLISHED-TTL:P3D
REFRESH-INTERVAL:P3D
CALSCALE:GREGORIAN
BEGIN:VEVENT
DTSTART;VALUE=DATE:20090107
DTEND;VALUE=DATE:20090108
TRANSP:TRANSPARENT
X-MICROSOFT-CDO-ALLDAYEVENT:TRUE
SUMMARY:Green Academy: PV Basics Workshop
DESCRIPTION:Green Collar Jobs are available in Cleveland. At the Green Academy and Center for Sustainability\, we understand the value and importance of training in order to take advantage of opportunities available in the growing green economy. Therefore\, we have developed course to help you start a green business or increase the bottom line of your existing business by adding solar installation as a new revenue stream or by using the energy and audit program to reduce your operating expenses.  To read more about this opportunity\, please click here. The Green Academy and Center for Sustainability at Tri-C trains individuals in the principles ofsustainabilitygreen constructiongreen interior designgreen business developmentsustainability investingand more!Salaries range from $30\,000-60\,000 annually. Topics to be covered in these classes include:Basics of SustainabilityLEED AP\, NCV\, and CI Exam PrepInterpreting Green Bid SpecsResidential RehabMaking Your Business Green The first class on PV Basics begins January 7\, 2009\, and is a 16 hour series. Classes on PV Certification (52 hour series\, $925) and Environmental and Energy Auditor Program (48 hour series\, $650) begin mid-February. More more information about these classes please click here. Fore more information and a course schedule\, please call 216-897-2867 or email leo.russo@tri-c.edu. Registration closes 5 days prior to the start of the class.
X-ALT-DESC;FMTTYPE=text/html:<div>Green Collar Jobs are available in Cleveland. At the Green Academy and Center for Sustainability\, we understand the value and importance of training in order to take advantage of opportunities available in the growing green economy. Therefore\, we have developed course to help you start a green business or increase the bottom line of your existing business by adding solar installation as a new revenue stream or by using the energy and audit program to reduce your operating expenses.&nbsp\; To read more about this opportunity\, please <a href="https://secure.chambermaster.com/FCKeditor/UserFiles/chambers/368/File/GreenAcad-Cover%20Letter.pdf">click here</a>.</div><div>&nbsp\;</div><div>The Green Academy and Center for Sustainability at Tri-C trains individuals in the principles of</div><ul><li>sustainability</li><li>green construction</li><li>green interior design</li><li>green business development</li><li>sustainability investing</li><li>and more!</li></ul><div>Salaries range from $30\,000-60\,000 annually.</div><div>&nbsp\;</div><div>Topics to be covered in these classes include:</div><ul><li>Basics of Sustainability</li><li>LEED AP\, NCV\, and CI Exam Prep</li><li>Interpreting Green Bid Specs</li><li>Residential Rehab</li><li>Making Your Business Green</li></ul><div>&nbsp\;</div><div>The first class on PV Basics begins January 7\, 2009\, and is a 16 hour series.</div><div>&nbsp\;</div><div>Classes on PV Certification (52 hour series\, $925) and Environmental and Energy Auditor Program (48 hour series\, $650) begin mid-February.</div><div>&nbsp\;</div><div>More more information about these classes please <a href="https://secure.chambermaster.com/FCKeditor/UserFiles/chambers/368/File/GreenAcad-Flier.pdf">click here</a>.</div><div>&nbsp\;</div><div>Fore more information and a course schedule\, please call 216-897-2867 or email <a href="mailto:leo.russo@tri-c.edu">leo.russo@tri-c.edu</a>.</div><div>&nbsp\;</div><div>Registration closes 5 days prior to the start of the class.</div>
LOCATION:The Green Academy andCenter for Sustainability
UID:e.368.129
SEQUENCE:3
DTSTAMP:20260423T224136Z
URL:https://public.beachwood.org/events/details/green-academy-pv-basics-workshop-01-07-2009-129
END:VEVENT

END:VCALENDAR
