BEGIN:VCALENDAR
VERSION:2.0
PRODID:-//ChamberMaster//Event Calendar 2.0//EN
METHOD:PUBLISH
X-PUBLISHED-TTL:P3D
REFRESH-INTERVAL:P3D
CALSCALE:GREGORIAN
BEGIN:VEVENT
DTSTART:20140625T130000Z
DTEND:20140625T190000Z
X-MICROSOFT-CDO-ALLDAYEVENT:FALSE
SUMMARY:Greater University Circle Job Fair
DESCRIPTION:Vector Technical Inc. invites job seekers to the Greater University Circle Job Fair!!
X-ALT-DESC;FMTTYPE=text/html:Vector Technical Inc. invites job seekers to the Greater University Circle Job Fair!!
LOCATION:CWRU Thwing Student Center 11111 Euclid Avenue Cleveland\, Ohio 44106
UID:e.368.1137
SEQUENCE:3
DTSTAMP:20260420T060808Z
URL:https://public.beachwood.org/events/details/greater-university-circle-job-fair-06-25-2014-1137
END:VEVENT

END:VCALENDAR
