BEGIN:VCALENDAR
VERSION:2.0
PRODID:-//ChamberMaster//Event Calendar 2.0//EN
METHOD:PUBLISH
X-PUBLISHED-TTL:P3D
REFRESH-INTERVAL:P3D
CALSCALE:GREGORIAN
BEGIN:VEVENT
DTSTART;VALUE=DATE:20160204
DTEND;VALUE=DATE:20160205
TRANSP:TRANSPARENT
X-MICROSOFT-CDO-ALLDAYEVENT:TRUE
SUMMARY:Grand Opening: Goodwill
DESCRIPTION:Goodwill ~ Grand Opening ~ Thursday\, February 4\, 2016\n\nDoors open at 9:00 AM\n\nLocation:  6605 Mayfield Road ~ Mayfield Heights\, OH\n\n\n\nNEW Store & Donation Center with ...\n\n	Fresh inventory arriving hourly\n	NEW products from national retailers\n	One-of-a-kind items\n\nCelebrate with special grand opening giveaways and lots of fun and have an awesome shopping experience!\n\n\n\nStore & Donation Center hours:  Mon-Sat 9 AM - 8 PM\; Sun 11 AM - 6 PM
X-ALT-DESC;FMTTYPE=text/html:Goodwill ~ Grand Opening ~ Thursday\, February 4\, 2016<br />\nDoors open at 9:00 AM<br />\nLocation:&nbsp\; 6605 Mayfield Road ~ Mayfield Heights\, OH<br />\n<br />\nNEW Store &amp\; Donation Center with ...\n<ul>\n	<li>Fresh inventory arriving hourly</li>\n	<li>NEW products from national retailers</li>\n	<li>One-of-a-kind items</li>\n</ul>\nCelebrate with special grand opening giveaways and lots of fun and have an awesome shopping experience!<br />\n<br />\nStore &amp\; Donation Center hours:&nbsp\; Mon-Sat 9 AM - 8 PM\; Sun 11 AM - 6 PM<br />\n&nbsp\;
LOCATION:6605 Mayfield Road Mayfield Heights\, OH
UID:e.368.4820
SEQUENCE:3
DTSTAMP:20260420T090223Z
URL:https://public.beachwood.org/events/details/grand-opening-goodwill-02-04-2016-4820
END:VEVENT

END:VCALENDAR
