BEGIN:VCALENDAR
VERSION:2.0
PRODID:-//ChamberMaster//Event Calendar 2.0//EN
METHOD:PUBLISH
X-PUBLISHED-TTL:P3D
REFRESH-INTERVAL:P3D
CALSCALE:GREGORIAN
BEGIN:VEVENT
DTSTART:20090213T140000Z
DTEND:20090213T230000Z
X-MICROSOFT-CDO-ALLDAYEVENT:FALSE
SUMMARY:Grand Opening - Citizens Bank
DESCRIPTION:Join the Party Citizens Bank invites you to the Grand Opening of its Warrensville Heights Bank Branch. Join them for Fun and Food as they open their newest location on February 13th\, 9 AM - 6 PM\, at 4834 Richmond Road (just past Miles). CITIZENSBANKING.COMPHONE: 216.514.5401
X-ALT-DESC;FMTTYPE=text/html:<div align="center"><font color="#808080" size="4"><strong>Join the Party</strong></font></div><div>&nbsp\;</div><div><font color="#cc0000"><strong>Citizens Bank</strong></font> <font color="#808080"><strong>invites you to the Grand Opening of its Warrensville Heights Bank Branch.</strong></font></div><div>&nbsp\;</div><div><font color="#808080"><strong>Join them for Fun and Food as they open their newest location on February 13th\, 9 AM - 6 PM\, at 4834 Richmond Road (just past Miles).</strong></font></div><div>&nbsp\;</div><div><strong><font color="#cc0000">CITIZENSBANKING.COM</font></strong></div><div><font color="#808080"><strong>PHONE: 216.514.5401</strong></font></div><div>&nbsp\;</div><div>&nbsp\;</div>
LOCATION:Citizens Bank4834 Richmond RoadWarrensville Hts
UID:e.368.145
SEQUENCE:3
DTSTAMP:20260423T213411Z
URL:https://public.beachwood.org/events/details/grand-opening-citizens-bank-02-13-2009-145
END:VEVENT

END:VCALENDAR
