BEGIN:VCALENDAR
VERSION:2.0
PRODID:-//ChamberMaster//Event Calendar 2.0//EN
METHOD:PUBLISH
X-PUBLISHED-TTL:P3D
REFRESH-INTERVAL:P3D
CALSCALE:GREGORIAN
BEGIN:VEVENT
DTSTART:20080917T224500Z
DTEND:20080917T224500Z
X-MICROSOFT-CDO-ALLDAYEVENT:FALSE
SUMMARY:Got Conflict? Mediation May be the Answer
DESCRIPTION:Got Conflict? Mediation May be the Answer The Mediation Association of Northeast Ohio (MANO) invites you to join them for an open conversation about dispute resolution in our community\, at work\, and at home on Wednesday\, September 17th\, 6:45 PM at the Beachwood Community Center (part of the Municipal Complex at the corner of Richmond & Fairmount). Mano has assembled a panel of local mediation experts to answer your questions and to education you about their mediation practices.Ed Boyte\, Assistant Director\, Cleveland Mediation CenterSharon Comet-Epstein\, Private Divorce Mediator & AttorneyEd Peirce\, Mediator & Regional Director of Dispute Resolution\, BBB or CantonWendy Rosen\, Mdiator & Magistrate\, Shaker Hts Municipal CourtRebecca Wetzel\, ADR Administrator for Cuyahoga County Common Pleas Court
X-ALT-DESC;FMTTYPE=text/html:<div><font size="3"><strong><em>Got Conflict? Mediation May be the Answer</em></strong></font></div><div>&nbsp\;</div><div>The Mediation Association of Northeast Ohio (MANO) invites you to join them for an open conversation about dispute resolution in our community\, at work\, and at home on</div><div>&nbsp\;</div><div>Wednesday\, September 17th\, 6:45 PM at the Beachwood Community Center (part of the Municipal Complex at the corner of Richmond &amp\; Fairmount).</div><div>&nbsp\;</div><div>Mano has assembled a panel of local mediation experts to answer your questions and to education you about their mediation practices.</div><ul><li>Ed Boyte\, Assistant Director\, Cleveland Mediation Center</li><li>Sharon Comet-Epstein\, Private Divorce Mediator &amp\; Attorney</li><li>Ed Peirce\, Mediator &amp\; Regional Director of Dispute Resolution\, BBB or Canton</li><li>Wendy Rosen\, Mdiator &amp\; Magistrate\, Shaker Hts Municipal Court</li><li>Rebecca Wetzel\, ADR Administrator for Cuyahoga County Common Pleas Court</li></ul><div>&nbsp\;</div><div>&nbsp\;</div>
LOCATION:Beachwood Community Center25325 Fairmount Blvd.(part of Beachwood Municipal Complex)
UID:e.368.85
SEQUENCE:3
DTSTAMP:20260424T032203Z
URL:https://public.beachwood.org/events/details/got-conflict-mediation-may-be-the-answer-09-17-2008-85
END:VEVENT

END:VCALENDAR
