BEGIN:VCALENDAR
VERSION:2.0
PRODID:-//ChamberMaster//Event Calendar 2.0//EN
METHOD:PUBLISH
X-PUBLISHED-TTL:P3D
REFRESH-INTERVAL:P3D
CALSCALE:GREGORIAN
BEGIN:VEVENT
DTSTART;VALUE=DATE:20180609
DTEND;VALUE=DATE:20180610
TRANSP:TRANSPARENT
X-MICROSOFT-CDO-ALLDAYEVENT:TRUE
SUMMARY:Global Wellness Day - June 11th\, 2016 - Participate with Your Company to Promote a Culture of Health and Wellbeing!
DESCRIPTION:Would you like to start a Wellness initiative at your company or organization?  On June 11th 2016 join us in celebrating Global Wellness Day with people on 7 continents\, in 83 countries.  \n\nLet's do some good in the world!  One day can change your whole life!\n\n\n\nAs a US Ambassador for Global Wellness Day\, I can help you get this initiative started at your company or organization.  Call me at 440-995-0303 or email me at gloria@wellnessevolution.com.  You will be glad you did!
X-ALT-DESC;FMTTYPE=text/html:Would you like to start a Wellness initiative at your company or organization? &nbsp\;On June 11th 2016 join us in celebrating Global Wellness Day with people on 7 continents\, in 83 countries. &nbsp\;<br />\nLet&#39\;s do some good in the world! &nbsp\;One day can change your whole life!<br />\n<br />\nAs a US Ambassador for Global Wellness Day\, I can help you get this initiative started at your company or organization. &nbsp\;Call me at 440-995-0303 or email me at gloria@wellnessevolution.com. &nbsp\;You will be glad you did!
LOCATION:Anywhere you choose
UID:e.368.4831
SEQUENCE:3
DTSTAMP:20260420T202949Z
URL:https://public.beachwood.org/events/details/global-wellness-day-june-11th-2016-participate-with-your-company-to-promote-a-culture-of-health-and-wellbeing-06-09-2018-4831
END:VEVENT

END:VCALENDAR
