BEGIN:VCALENDAR
VERSION:2.0
PRODID:-//ChamberMaster//Event Calendar 2.0//EN
METHOD:PUBLISH
X-PUBLISHED-TTL:P3D
REFRESH-INTERVAL:P3D
CALSCALE:GREGORIAN
BEGIN:VEVENT
DTSTART:20081024T154500Z
DTEND:20081024T173000Z
X-MICROSOFT-CDO-ALLDAYEVENT:FALSE
SUMMARY:GLOBAL GATEWAY SERIES-OCT '08 -CANCELLED
DESCRIPTION:OCT 24TH PROGRAM -- CANCELLED!! An Update on Immigration Law for Businesses This month's program discusses challenges of immigration law that continue to test businesses that rely on attracting the best talent from around the world. The presentation will address some fo the primary issues in immigration law and help your business negotiate the complexities of immigration regulations. The Global Gateway Series is presented by leading faculty from Cleveland State University's Cleveland-Marshall College of Law and Nance College of Business Adminstration to help companies make informed business decisions and pursue sound strategic growth. RSVPs are to Cleveland State University at www.csuohio.edu/cba/global/gateway. Cost is $6 per person and includes lunch.
X-ALT-DESC;FMTTYPE=text/html:<div align="center">&nbsp\;</div><div align="center"><font color="#333399" size="3"><strong>OCT 24TH PROGRAM -- CANCELLED!!</strong></font></div><div align="center">&nbsp\;</div><div align="center"><font color="#333399" size="3"><strong>An Update on Immigration Law for Businesses</strong></font></div><div>&nbsp\;</div><div>This month&rsquo\;s program discusses challenges of immigration law that continue to test businesses that rely on attracting the best talent from around the world. The presentation will address some fo the primary issues in immigration law and help your business negotiate the complexities of immigration regulations.</div><div>&nbsp\;</div><div>The Global Gateway Series is presented by leading faculty from Cleveland State University&rsquo\;s Cleveland-Marshall College of Law and Nance College of Business Adminstration to help companies make informed business decisions and pursue sound strategic growth.</div><div>&nbsp\;</div><div>RSVPs are to Cleveland State University at <a href="http://www.csuohio.edu/cba/global/gateway">www.csuohio.edu/cba/global/gateway</a>.</div><div>&nbsp\;</div><div>Cost is $6 per person and includes lunch.</div>
LOCATION:Beachwood Chamber of CommerceBeachwood Business Development CenterThree Commerce Park Square23230 Chagrin Blvd\, Suite 900Beachwood\, OH 44122216-831-0003
UID:e.368.95
SEQUENCE:3
DTSTAMP:20260424T021128Z
URL:https://public.beachwood.org/events/details/global-gateway-series-oct-08-cancelled-10-24-2008-95
END:VEVENT

END:VCALENDAR
