BEGIN:VCALENDAR
VERSION:2.0
PRODID:-//ChamberMaster//Event Calendar 2.0//EN
METHOD:PUBLISH
X-PUBLISHED-TTL:P3D
REFRESH-INTERVAL:P3D
CALSCALE:GREGORIAN
BEGIN:VEVENT
DTSTART:20080627T154500Z
DTEND:20080627T171500Z
X-MICROSOFT-CDO-ALLDAYEVENT:FALSE
SUMMARY:Global Gateway Series
DESCRIPTION:Import and Export Law: \nThe Basics and BeyondPresented by Jon P. Yormick\, Yormick & Associatesand sponsored by Cleveland State University \nCleveland-Marshall College of Law Exports of goods and services have grown in recent months and are encouraged by the government\, yet exporting is not a right\, it is a privilege. Whilere there are good opportunities to export today\, penalties for violations of export laws and regulations have increased significantly. similarly\, import regulations have become more stringent since September 2001. These factors challenge U.S. companies in a global economy. Familiarity and compliance with import and export regulations cannot be ignored\, overlooked\, or minimized because the consequences could be significant. Adopting proactive policies and strategies is a part of good risk management and helps to keep the U.S. safe and secure. Jon Yormick is the Founder and Managing Attorney of Yormick & Associates\, a business law firm that focuses on representing clients involved in international business transactions\, trade\, and litigation. Mr. Yormick practice focuses on international trade matters such as NAFTA\, U.S. Customs law matters\, export controls\, anti-boycott regulations\, deemed exports\, and the Foreign Corrupt Practices Act.
X-ALT-DESC;FMTTYPE=text/html:<div align="center"><font color="#333399" size="3"><strong>Import and Export Law:&nbsp\;<br />The Basics and Beyond</strong></font></div><div align="center"><font color="#333399"><strong>Presented by Jon P. Yormick\, Yormick &amp\; Associates</strong></font></div><div align="center"><font color="#333399"><strong>and sponsored by Cleveland State University&nbsp\;<br />Cleveland-Marshall College of Law</strong></font></div><div>&nbsp\;</div><div align="justify"><font color="#333399" size="2">Exports of goods and services have grown in recent months and are encouraged by the government\, yet exporting is not a right\, it is a privilege. Whilere there are good opportunities to export today\, penalties for violations of export laws and regulations have increased significantly. similarly\, import regulations have become more stringent since September 2001. These factors challenge U.S. companies in a global economy.</font></div><div align="justify"><font size="2">&nbsp\;</font></div><div align="justify"><font color="#333399" size="2">Familiarity and compliance with import and export regulations cannot be ignored\, overlooked\, or minimized because the consequences could be significant. Adopting proactive policies and strategies is a part of good risk management and helps to keep the U.S. safe and secure.</font></div><div align="justify">&nbsp\;</div><div align="justify"><font color="#333399"><font size="2"><strong>Jon Yormick</strong> is the Founder and Managing Attorney of Yormick &amp\; Associates\, a business law firm that focuses on representing clients involved in international business transactions\, trade\, and litigation. Mr. Yormick practice focuses on international trade matters such as NAFTA\, U.S. Customs law matters\, export controls\, anti-boycott regulations\, deemed exports\, and the Foreign Corrupt Practices Act.</font></font></div>
LOCATION:Beachwood Chamber of CommerceBeachwood Business Development CenterThree Commerce Park Square23230 Chagrin Blvd\, Suite 900Beachwood\, OH 44122216-831-0003
UID:e.368.38
SEQUENCE:3
DTSTAMP:20260424T084606Z
URL:https://public.beachwood.org/events/details/global-gateway-series-06-27-2008-38
END:VEVENT

END:VCALENDAR
