BEGIN:VCALENDAR
VERSION:2.0
PRODID:-//ChamberMaster//Event Calendar 2.0//EN
METHOD:PUBLISH
X-PUBLISHED-TTL:P3D
REFRESH-INTERVAL:P3D
CALSCALE:GREGORIAN
BEGIN:VEVENT
DTSTART:20081122T034500Z
DTEND:20081121T181500Z
X-MICROSOFT-CDO-ALLDAYEVENT:FALSE
SUMMARY:GLOBAL GATEWAY-NOV
DESCRIPTION:INTELLECTUAL PROPERTY AND ITS STRATEGIC USESwill be the topic of the Friday\, November 21st\, Global Gateway series for small to medium-sized businesses held at the Beachwood Chamber office.Steve Auvil\, a partner at Benesch\, Friedlander\, Coplan & Aronoff LLP\, will discuss how intellectual property is increasingly important to businesses of all sizes.  Whether your business is in cutting-edge technology or in more traditional spheres\, your intellectual property can distinguish you from your competition.  This lecture will introduce intellectual property types and discuss its strategic uses.Global Gateway is presented by leading law and business faculty at Cleveland State University's Cleveland-Marshall College of Law and Nance College of Business Administration and is a professional development series to help companies make informed decisions and pursue sound strategic growth.Program fee: $6 (includes lunch\, lecture and parking)Pre-registration is required and seating is limited.  Please register at www.csuohio.edu/cba/global/gateway.
X-ALT-DESC;FMTTYPE=text/html:<p>INTELLECTUAL PROPERTY AND ITS STRATEGIC USES</p><p>will be the topic of the Friday\, November 21st\, Global Gateway series for small to medium-sized businesses held at the Beachwood Chamber office.</p><p>Steve Auvil\, a partner at Benesch\, Friedlander\, Coplan &amp\; Aronoff LLP\, will discuss how intellectual property is increasingly important to businesses of all sizes.&nbsp\; Whether your business is in cutting-edge technology or in more traditional spheres\, your intellectual property can distinguish you from your competition.&nbsp\; This lecture will introduce intellectual property types and discuss its strategic uses.</p><p>Global Gateway is presented by leading&nbsp\;law and business faculty at Cleveland State University's Cleveland-Marshall&nbsp\;College of Law and Nance College of Business Administration and is a professional development series to help companies make informed decisions and pursue sound strategic growth.</p><p>Program fee: $6 (includes lunch\, lecture and parking)</p><p>Pre-registration is required and seating is limited.&nbsp\; Please register at <a href="http://www.csuohio.edu/cba/global/gateway">www.csuohio.edu/cba/global/gateway</a>.</p>
LOCATION:Beachwood Chamber of CommerceThree Commerce Park Square23230 Chagrin Blvd\, #900(216) 831-0003)
UID:e.368.116
SEQUENCE:3
DTSTAMP:20260424T015918Z
URL:https://public.beachwood.org/events/details/global-gateway-nov-11-21-2008-116
END:VEVENT

END:VCALENDAR
