BEGIN:VCALENDAR
VERSION:2.0
PRODID:-//ChamberMaster//Event Calendar 2.0//EN
METHOD:PUBLISH
X-PUBLISHED-TTL:P3D
REFRESH-INTERVAL:P3D
CALSCALE:GREGORIAN
BEGIN:VEVENT
DTSTART;VALUE=DATE:20090123
DTEND;VALUE=DATE:20090124
TRANSP:TRANSPARENT
X-MICROSOFT-CDO-ALLDAYEVENT:TRUE
SUMMARY:GLOBAL GATEWAY - JANUARY
DESCRIPTION:Mark your calendar for Friday\, January 23\, 2009\, for the Global Gateway Series sponsored by Cleveland State University Cleveland-Marshall College of Law.  This month's topic will be ...Get the Global Edge:  How to Overcome the Challenges of International EmploymentPresented by David Millstone\nPartner\, Squire\, Sanders & Dempsey LLPThe presentation will provide a review of basic employment issues in the U.S. and a comparison with international employment standards.  It will also look at how employment standards can create challenges for companies operating on a global basis.This program is held at the offices of the Beachwood Chamber of Commerce/Business Development Center and begins at 11:45 PM.  Cost for the event ($12.00) includes lunch and lecture.Please RSVP to CSU at www.csuohio.edu/business/global/gateway Seating is limited and pre-registration required.
X-ALT-DESC;FMTTYPE=text/html:<p><font color="#000080">Mark your calendar for Friday\, January 23\, 2009\, for the Global Gateway Series sponsored by Cleveland State University Cleveland-Marshall College of Law.&nbsp\; This month&rsquo\;s topic will be ...</font></p><p align="center"><font color="#000080" size="3"><strong>Get the Global Edge:&nbsp\; How to Overcome the Challenges of International Employment</strong></font></p><p align="center"><font size="3">Presented by David Millstone<br /></font><em>Partner\, Squire\, Sanders &amp\; Dempsey LLP</em></p><p>The presentation will provide a review of basic employment issues in the U.S. and a comparison with international employment standards.&nbsp\; It will also look at how employment standards can create challenges for companies operating on a global basis.</p><p>This program is held at the offices of the Beachwood Chamber of Commerce/Business Development Center and begins at 11:45 PM.&nbsp\; Cost for the event ($12.00) includes lunch and lecture.</p><p>Please RSVP to CSU at <a href="http://www.csuohio.edu/business/global/gateway">www.csuohio.edu/business/global/gateway</a></p><p>&nbsp\;Seating is limited and pre-registration required.</p>
LOCATION:Beachwood Business Development Center23230 Chagrin Blvd\, Suite 900Beachwood216-831-0003
UID:e.368.137
SEQUENCE:3
DTSTAMP:20260423T223709Z
URL:https://public.beachwood.org/events/details/global-gateway-january-01-23-2009-137
END:VEVENT

END:VCALENDAR
