BEGIN:VCALENDAR
VERSION:2.0
PRODID:-//ChamberMaster//Event Calendar 2.0//EN
METHOD:PUBLISH
X-PUBLISHED-TTL:P3D
REFRESH-INTERVAL:P3D
CALSCALE:GREGORIAN
BEGIN:VEVENT
DTSTART:20090227T164000Z
DTEND:20090227T181500Z
X-MICROSOFT-CDO-ALLDAYEVENT:FALSE
SUMMARY:GLOBAL GATEWAY-FEBRUARY
DESCRIPTION:2009 Global Gateway SeriesSponsored by Cleveland State University\nCleveland Marshall College of LawThe Global Gateway is a professional development series presented by leading law and business faculty to help companies make informed business decisions and pursue sound strategic growth. On Friday\, February 27\, 2009\, 11:45 AM-1:15 PM\, Jimmy D'Orazio\, Instructor at CSU's Nance College of Business Administration will discussOnline Marketing:  Current Trends and Best PracticesAs more and more companies move marketing dollars to online tools\, some important lessons have been learned.  Jim D'Orazio will discuss current trends and best practices in web-based marketing.  Topics covered will include email\, search advertising\, rich media\, and social marketing.Location: Beachwood Business Development Center\, 23230 Chagrin Blvd\, Suite 900Cost: $12 (includes lunch and lecture).  Pre-registration required. Seating is limited.Register at: www.csuohio.edu/business/global/gateway
X-ALT-DESC;FMTTYPE=text/html:<p align="center"><font color="#333399" size="3"><strong>2009 Global Gateway Series</strong></font></p><p align="center"><font color="#333399" size="2"><strong>Sponsored by Cleveland State University<br /><font size="1">Cleveland Marshall College of Law</font></strong></font></p><div><font color="#333399" size="3"><p><font color="#333399" size="2">The&nbsp\;Global Gateway&nbsp\;is a professional development series presented by leading law and business faculty to help companies make informed business decisions and pursue sound strategic growth. </font></p><p><font color="#333399" size="2">On Friday\, February 27\, 2009\, 11:45 AM-1:15 PM\, Jimmy D'Orazio\, Instructor at CSU's Nance College of Business Administration will discuss</font></p></font></div><p align="center"><font color="#333399" size="3"><strong>Online Marketing:&nbsp\; Current Trends and Best Practices</strong></font></p><p><font color="#333399">As more and more companies move marketing dollars to online tools\, some important lessons have been learned.&nbsp\; Jim D'Orazio will discuss current trends and best practices in web-based marketing.&nbsp\; Topics covered will include email\, search advertising\, rich media\, and social marketing.</font></p><p><font color="#333399"><strong>Location</strong>: Beachwood Business Development Center\, 23230 Chagrin Blvd\, Suite 900</font></p><p><font color="#333399"><strong>Cost:</strong> $12 (includes lunch and lecture).&nbsp\; Pre-registration required. Seating is limited.</font></p><p><font color="#333399"><strong>Register at</strong>: <a href="http://www.csuohio.edu/business/global/gateway">www.csuohio.edu/business/global/gateway</a></font></p>
LOCATION:Beachwood Business Development CenterThree Commerce Park Square23230 Chagrin Blvd\, Suite 900216-831-0003
UID:e.368.148
SEQUENCE:3
DTSTAMP:20260423T212816Z
URL:https://public.beachwood.org/events/details/global-gateway-february-02-27-2009-148
END:VEVENT

END:VCALENDAR
