BEGIN:VCALENDAR
VERSION:2.0
PRODID:-//ChamberMaster//Event Calendar 2.0//EN
METHOD:PUBLISH
X-PUBLISHED-TTL:P3D
REFRESH-INTERVAL:P3D
CALSCALE:GREGORIAN
BEGIN:VEVENT
DTSTART:20081201T233000Z
DTEND:20081202T013000Z
X-MICROSOFT-CDO-ALLDAYEVENT:FALSE
SUMMARY:''Girls Night Out''
DESCRIPTION:On Monday\, December 1\, 2008\, from 6:30-8:30 PM\, join Brennan Financial Group for "Girls' Night Out" -- A casual\, fun\, and informative evening put together BY women FOR women. Enjoy refreshments\, hors d'oeuvres\, vendors to appeal to all types of women\, and financial information to better prepare youfor the "ifs" in life. Along with a presentation: Financial Independence and Security: For Every Stage of a Woman's Life. The event is hosted by registered representatives ...Molly L. Carlin\, CLTLC\, 216-292-8350andRobin Sacks\, 216-292-8380 Please RSVP by Friday\, November 21st!
X-ALT-DESC;FMTTYPE=text/html:<div>On Monday\, December 1\, 2008\, from 6:30-8:30 PM\, join Brennan Financial Group for</div><div>&nbsp\;</div><div>&quot\;Girls' Night Out&quot\; -- A casual\, fun\, and informative evening put together BY women FOR women.</div><div>&nbsp\;</div><div>Enjoy refreshments\, hors d'oeuvres\, vendors to appeal to all types of women\, and financial information to better prepare youfor the &quot\;ifs&quot\; in life.</div><div>&nbsp\;</div><div>Along with a presentation: Financial Independence and Security: For Every Stage of a Woman's Life.</div><div>&nbsp\;</div><div>The event is hosted by registered representatives ...</div><div>Molly L. Carlin\, CLTLC\, 216-292-8350</div><div>and</div><div>Robin Sacks\, 216-292-8380</div><div>&nbsp\;</div><div>Please RSVP by Friday\, November 21st!</div><div>&nbsp\;</div><div>&nbsp\;</div>
LOCATION:Beachwood Chamber of Commerce23230 Chagrin BlvdBldg 3\, Suite 900
UID:e.368.121
SEQUENCE:3
DTSTAMP:20260423T234752Z
URL:https://public.beachwood.org/events/details/girls-night-out-12-01-2008-121
END:VEVENT

END:VCALENDAR
