BEGIN:VCALENDAR
VERSION:2.0
PRODID:-//ChamberMaster//Event Calendar 2.0//EN
METHOD:PUBLISH
X-PUBLISHED-TTL:P3D
REFRESH-INTERVAL:P3D
CALSCALE:GREGORIAN
BEGIN:VEVENT
DTSTART:20151130T160000Z
DTEND:20151230T050000Z
X-MICROSOFT-CDO-ALLDAYEVENT:FALSE
SUMMARY:Gift Card Promotion
DESCRIPTION:For every $50.00 in gift cards that you purchase\; you will receive a $10.00 Bonus Card.  The Bonus Card is valid January 1 - February 28\, 2016.
X-ALT-DESC;FMTTYPE=text/html:For every $50.00 in gift cards that you purchase\; you will receive a $10.00 Bonus Card.&nbsp\; The Bonus Card is valid January 1 - February 28\, 2016.
LOCATION:The Pub Beachwood 26300 Cedar Road At Beachwood Place Beachwood Ohio 44122
UID:e.368.4804
SEQUENCE:3
DTSTAMP:20260420T044049Z
URL:https://public.beachwood.org/events/details/gift-card-promotion-11-30-2015-4804
END:VEVENT

END:VCALENDAR
