BEGIN:VCALENDAR
VERSION:2.0
PRODID:-//ChamberMaster//Event Calendar 2.0//EN
METHOD:PUBLISH
X-PUBLISHED-TTL:P3D
REFRESH-INTERVAL:P3D
CALSCALE:GREGORIAN
BEGIN:VEVENT
DTSTART:20140504T170000Z
DTEND:20140504T200000Z
X-MICROSOFT-CDO-ALLDAYEVENT:FALSE
SUMMARY:Friends of the Library Spring Book Sale
DESCRIPTION:Thursday May 1 6-8 pm "Member's Preview Night"\n\nNew members may join at the door\n\n\n\nFriday May 2 9-4 pm\n\nSaturday May 3 9-4 pm\n\nSunday May 4 1-4 pm "Bag Day" $5 per bag
X-ALT-DESC;FMTTYPE=text/html:Thursday May 1 6-8 pm &quot\;Member&#39\;s Preview Night&quot\;<br />\nNew members may join at the door<br />\n<br />\nFriday May 2 9-4 pm<br />\nSaturday May 3 9-4 pm<br />\nSunday May 4 1-4 pm &quot\;Bag Day&quot\; $5 per bag<br />\n&nbsp\;
LOCATION:Beachwood Branch of Cuyahoga County Public Library 25501 Shaker Blvd. Beachwood\, OH 44122
UID:e.368.1098
SEQUENCE:3
DTSTAMP:20260420T074545Z
URL:https://public.beachwood.org/events/details/friends-of-the-library-spring-book-sale-05-04-2014-1098
END:VEVENT

END:VCALENDAR
