BEGIN:VCALENDAR
VERSION:2.0
PRODID:-//ChamberMaster//Event Calendar 2.0//EN
METHOD:PUBLISH
X-PUBLISHED-TTL:P3D
REFRESH-INTERVAL:P3D
CALSCALE:GREGORIAN
BEGIN:VEVENT
DTSTART:20081113T210000Z
DTEND:20081114T000000Z
X-MICROSOFT-CDO-ALLDAYEVENT:FALSE
SUMMARY:Freeway Lanes-Networking Party
DESCRIPTION:Join Freeway Lanes of Solon on Thursday\, November 13th\, for a Networking Party! Freeway Lanes along with Chamber member Team Promotions\, the House of Blues and other businesses will show you how you can make your next event one that everyone will talk about. There will be fun\, food\, drinks and bowling for everyone to try! Stop in on the 13th between 4-7 PM at 33185 Bainbridge Road\, Solon. RSVP to Sue@freewaylanes.com
X-ALT-DESC;FMTTYPE=text/html:<div>Join Freeway Lanes of Solon on Thursday\, November 13th\, for a Networking Party!</div><div>&nbsp\;</div><div>Freeway Lanes along with Chamber member&nbsp\;Team Promotions\, the House of Blues and other businesses will show you how you can make your next event one that everyone will talk about.</div><div>&nbsp\;</div><div>There will be fun\, food\, drinks and bowling for everyone to try!</div><div>&nbsp\;</div><div>Stop in on the 13th between 4-7 PM at 33185 Bainbridge Road\, Solon.</div><div>&nbsp\;</div><div>RSVP to Sue@freewaylanes.com</div><div>&nbsp\;</div><div>&nbsp\;</div>
LOCATION:Freeway Lanes331285 Bainbridge RoadSolon\, OH440-248-4080
UID:e.368.114
SEQUENCE:3
DTSTAMP:20260424T005218Z
URL:https://public.beachwood.org/events/details/freeway-lanes-networking-party-11-13-2008-114
END:VEVENT

END:VCALENDAR
