BEGIN:VCALENDAR
VERSION:2.0
PRODID:-//ChamberMaster//Event Calendar 2.0//EN
METHOD:PUBLISH
X-PUBLISHED-TTL:P3D
REFRESH-INTERVAL:P3D
CALSCALE:GREGORIAN
BEGIN:VEVENT
DTSTART:20160421T160000Z
DTEND:20160421T171500Z
X-MICROSOFT-CDO-ALLDAYEVENT:FALSE
SUMMARY:Free Luncheon + Free Advertising Benefits = New Customers for your Business!
DESCRIPTION:Don't miss the opportunity to Lunch and Learn!\n\n(BOTH are FREE! for Beachwood Chamber Members)\n\n \n\nWhy not take an hour and learn about leveraging your Chamber membership? \n\n\n\nAre you utilizing your Website Advertising Benefits yet?\n\n\n\nThis is an easy way to gain new customers/clients specifically looking for your services and products in the Beachwood Area!\n\n \n\nWe have invited our ChamberMaster Internet Marketing Consultant\, Suzanne Johnson\, to provide a group training session to walk you through how you can maximize your visibility and gain new customers on http://www.beachwood.org.  \n\n \n\nOur Luncheon Sponsor Agostino's Catering & Event Center Will Be Serving a Delicious Lunch!\n\n \n\nYour training session includes:\n\n \n\n	How consumers find your business listing & how it looks. Making your Business Stand Out!\n	Advertising opportunities to help promote your business\n	Using the ChamberMaster Software program to Update your Listing\, Network with Chamber Members &  Add Hot Deals\, Events\, & Job Postings to the Chamber Website & Member Information Center!\n\nTake this opportunity to review your business listing - Is it outdated? Missing a description? Are you at the bottom of the page?\n\n \n\nTO RSVP: You May Register Online or\n\nYour may contact Suzanne directly at suzanne.johnson@micronetonline.com or               218-330-1475.\n\n \n\n\n\nIf you are unable to attend the session\, call Suzanne to make an individual appt. She can meet with you at your business or at the chamber office\, by appt. She will be available for individual appointments at your office or the chamber\, thru April 23rd.\n\n\n\nfor Phone Consultations thru April 30th.
X-ALT-DESC;FMTTYPE=text/html:<span style="font-size: medium"><strong><span style="font-weight: normal"><span style="color: black"><span style="font-family: arial\, sans-serif">Don&#39\;t miss the opportunity to </span></span></span></strong><strong><em><span style="font-family: arial\, sans-serif">Lunch and Learn!</span></em></strong><br />\n<strong><span style="font-weight: normal"><span style="color: black"><span style="font-family: arial\, sans-serif">(BOTH are FREE! for Beachwood Chamber Members)</span></span></span></strong></span><br />\n&nbsp\;<br />\n<strong><span style="font-weight: normal"><span style="font-size: 11pt"><span style="color: black"><span style="font-family: arial\, sans-serif">Why not take an hour and learn about leveraging your Chamber membership?&nbsp\;<br />\n<br />\nAre you utilizing your Website&nbsp\;Advertising Benefits yet?<br />\n<br />\nThis is an easy way to gain new&nbsp\;customers/clients specifically looking for your services and products in the Beachwood&nbsp\;Area!</span></span></span></span></strong><br />\n&nbsp\;<br />\n<span style="font-size: medium"><strong><span style="font-weight: normal"><span style="color: black"><span style="font-family: arial\, sans-serif">We have invited our </span></span></span></strong><strong><span style="font-weight: normal"><span style="font-family: arial\, sans-serif">ChamberMaster<span style="color: black"> Internet Marketing Consultant\, Suzanne Johnson\, to provide&nbsp\;a group training session to walk you through how you can maximize your visibility and gain new customers on <a href="http://r20.rs6.net/tn.jsp?t=u8dajtmab.0.rcaq7qeab.dvc5xpeab.1262&amp\;ts=S0899&amp\;p=http%3A%2F%2Fwww.beachwood.org" target="_blank"><span style="color: #0000ff">http://www.beachwood.org</span></a>.&nbsp\;&nbsp\;</span></span></span></strong></span><br />\n&nbsp\;<br />\n<strong><span style="font-size:14px\;"><span style="font-family:tahoma\;">Our Luncheon Sponsor&nbsp\;Agostino&#39\;s Catering &amp\; Event Center Will Be Serving a Delicious Lunch!</span></span></strong><br />\n&nbsp\;<br />\n<strong><span style="font-weight: normal"><span style="font-size: 11pt"><span style="color: black"><span style="font-family: arial\, sans-serif">Your training session includes:</span></span></span></span></strong><br />\n&nbsp\;\n<ul>\n	<li style="color: black"><span style="font-size: medium"><strong><span style="font-weight: normal"><span style="font-family: arial\, sans-serif">How consumers find your business listing &amp\;&nbsp\;how it looks. Making your Business Stand Out!</span></span></strong></span></li>\n	<li style="color: black"><span style="font-size: medium"><strong><span style="font-weight: normal"><span style="font-family: arial\, sans-serif">Advertising opportunities to help promote your business</span></span></strong></span></li>\n	<li style="color: black"><span style="font-size: medium"><strong><span style="font-weight: normal"><span style="font-family: arial\, sans-serif">Using the ChamberMaster Software program to Update your Listing\, Network with Chamber Members &amp\;&nbsp\;&nbsp\;Add&nbsp\;Hot Deals\, Events\, &amp\; Job Postings to the Chamber Website &amp\;&nbsp\;Member Information Center!</span></span></strong></span></li>\n</ul>\n<strong><span style="font-weight: normal"><span style="font-size: 11pt"><span style="color: black"><span style="font-family: arial\, sans-serif">Take this opportunity to review your business listing - Is it outdated? Missing a description? Are you at the bottom of the page?</span></span></span></span></strong><br />\n&nbsp\;<br />\n<strong><span style="font-weight: normal"><span style="font-size: 11pt"><span style="font-family: arial\, sans-serif">TO RSVP: You May Register Online or</span></span></span></strong><br />\n<strong><span style="font-weight: normal"><span style="font-size: 11pt"><span style="font-family: arial\, sans-serif">Your may contact Suzanne directly at <a href="mailto:suzanne.johnson@micronetonline.com"><span style="color: #0000ff">suzanne.johnson@micronetonline.com</span></a> or&nbsp\;&nbsp\;&nbsp\;&nbsp\;&nbsp\;&nbsp\;&nbsp\;&nbsp\;&nbsp\;&nbsp\;&nbsp\;&nbsp\;&nbsp\;&nbsp\; 218-330-1475.</span></span></span></strong><br />\n&nbsp\;<br />\n<br />\n<strong><span style="font-weight: normal"><span style="font-family: arial\, sans-serif"><span style="font-size: medium">If you are unable to attend the session\, call Suzanne to make an individual appt. She can meet with you at your business or at the chamber office\, by appt. She will be available for <span style="font-size:14px\;"><span style="font-family:tahoma\;">individual appointments at your office or the chamber\, thru April 23rd.</span></span></span></span></span></strong><br />\n<br />\n<span style="font-size:14px\;"><span style="font-family:tahoma\;">for Phone Consultations thru April 30th.</span></span><br />\n&nbsp\;<br />\n&nbsp\;<br />\n&nbsp\;<br />\n&nbsp\;
LOCATION:This session will be held in the Lower Level Conference Room\, Lakepoint Office Park\, 3201 Enterprise Parkway in Beachwood Take the Elevator Downstairs and turn to your left.
UID:e.368.4846
SEQUENCE:3
DTSTAMP:20260420T115741Z
URL:https://public.beachwood.org/events/details/free-luncheon-free-advertising-benefits-new-customers-for-your-business-04-21-2016-4846
END:VEVENT

END:VCALENDAR
