BEGIN:VCALENDAR
VERSION:2.0
PRODID:-//ChamberMaster//Event Calendar 2.0//EN
METHOD:PUBLISH
X-PUBLISHED-TTL:P3D
REFRESH-INTERVAL:P3D
CALSCALE:GREGORIAN
BEGIN:VEVENT
DTSTART:20180618T133000Z
DTEND:20180618T193000Z
X-MICROSOFT-CDO-ALLDAYEVENT:FALSE
SUMMARY:Free Dementia Care Training Workshop in Beachwood for Family and Professional Caregivers
DESCRIPTION:Are you a family member or professional caregiver who provides care for those living with dementia-related diseases? We invite you to attend a FREE Dementia Care Training workshop on June 18 from 9:30 a.m. to 3:30 p.m. at the Alzheimer's Association Cleveland Area Chapter's Beachwood office\, 23215 Commerce Park\, Suite 300. The workshop provides an overview of Alzheimer's disease and related disorders\, teaches effective communication techniques\, offers ideas on how to engage those with cognitive problems\, \n\nand provides strategies for managing challenging behavior. Four social work CEUs are available. Registration is required. Call 800.272.3900.
X-ALT-DESC;FMTTYPE=text/html:<span style="background-color:rgb(255\, 255\, 255)\; color:rgb(29\, 33\, 41)\; font-family:helvetica\,arial\,sans-serif\; font-size:14px">Are you a family member or professional caregiver who provides care for those living with dementia-related diseases? We invite you to attend a FREE Dementia Care Training workshop on June 18 from 9:30 a.m. to 3:30 p.m. at the Alzheimer&#39\;s Association Cleveland Area Chapter&#39\;s Beachwood office\, 23215 Commerce Park\, Suite 300. The workshop provides an overview of Alzheimer&rsquo\;s disease and related disorders\, teaches effective communication techniques\, offers ideas on how to engage those with cognitive problems\,&nbsp\;</span><br />\n<span style="background-color:rgb(255\, 255\, 255)\; color:rgb(29\, 33\, 41)\; font-family:helvetica\,arial\,sans-serif\; font-size:14px">and provides strategies for managing challenging behavior. Four social work CEUs are available. Registration is required. Call 800.272.3900.</span>
LOCATION:Alzheimer's Association Cleveland Area Chapter 23215 Commerce Park\, Suite 300 Beachwood\, OH 44122
UID:e.368.6921
SEQUENCE:3
DTSTAMP:20260420T202938Z
URL:https://public.beachwood.org/events/details/free-dementia-care-training-workshop-in-beachwood-for-family-and-professional-caregivers-6921
END:VEVENT

END:VCALENDAR
