BEGIN:VCALENDAR
VERSION:2.0
PRODID:-//ChamberMaster//Event Calendar 2.0//EN
METHOD:PUBLISH
X-PUBLISHED-TTL:P3D
REFRESH-INTERVAL:P3D
CALSCALE:GREGORIAN
BEGIN:VEVENT
DTSTART:20150618T120000Z
DTEND:20150618T130000Z
X-MICROSOFT-CDO-ALLDAYEVENT:FALSE
SUMMARY:FREE BWC Prospective Premium Billing Informational Meeting
DESCRIPTION:BWC Prospective Premium Billing\n\nALERT - Don't Lose 8 Months of Free BWC Premiums\n\n\n\nLearn the "Inside" Story About How BWC's New Premium Billing System Works Starting 7/1/15\n\nProspective Premium Billing is coming soon and May/June is the kick-off time! It's very important that you pay close attention to dates beginning next month as the BWC begins to transition employers into a new billing system.\n\nWith the BWC's movement from retrospective to prospective invoicing\, the timeliness of your payments and attention to detail is crucial to maintaining your active status as a covered employer.\n\n\n\n Important Information:\n\n\n	Failure to report payroll on time in August 2015 will cause employers to lose 8 months of premium credits\n	Failure to pay premiums on time using the new model will result in penalties and interest.\n	Employers will be responsible for the costs of any claims\, dollar for dollar\, that occur during a period of coverage lapse.\n	Failure to report payroll or pay amounts due at the time of the year-end "true up" will result in discount program disqualification\, including group rating.\n\n        Join us for a FREE information session to learn more about Prospective Premium Billing\, hosted by Benefits 1 Group.
X-ALT-DESC;FMTTYPE=text/html:<h1><br />\n<br />\nBWC Prospective Premium Billing</h1>\n\n<p class="style3 color">ALERT - Don&#39\;t Lose 8 Months of Free BWC Premiums<br />\n<br />\nLearn the &quot\;Inside&quot\; Story About How BWC&#39\;s New Premium Billing System Works Starting 7/1/15</p>\n\n<p><strong>Prospective Premium Billing</strong> is coming soon and May/June is the kick-off time! It&#39\;s very important that you pay close attention to dates beginning next month as the BWC begins to transition employers into a new billing system.</p>\n\n<p>With the BWC&#39\;s movement from retrospective to prospective invoicing\, the timeliness of your payments and attention to detail is crucial to maintaining your active status as a covered employer.<br />\n<br />\n<strong>&nbsp\;Important Information:</strong></p>\n\n<ul>\n	<li>Failure to report payroll on time in August 2015 will cause employers to lose 8 months of premium credits</li>\n	<li>Failure to pay premiums on time using the new model will result in penalties and interest.</li>\n	<li>Employers will be responsible for the costs of any claims\, dollar for dollar\, that occur during a period of coverage lapse.</li>\n	<li>Failure to report payroll or pay amounts due at the time of the year-end &quot\;true up&quot\; will result in discount program disqualification\, including group rating.</li>\n</ul>\n&nbsp\;&nbsp\;&nbsp\;&nbsp\;&nbsp\;&nbsp\;&nbsp\; <span style="font-size:16px\;"><strong>Join us for a FREE information session to learn more about Prospective Premium Billing\, hosted by Benefits 1 Group.</strong></span>
LOCATION:Benefits 1 Group First Floor Education Room 25001 Emery Rd. Cleveland\, OH 44128
UID:e.368.3741
SEQUENCE:3
DTSTAMP:20260419T225333Z
URL:https://public.beachwood.org/events/details/free-bwc-prospective-premium-billing-informational-meeting-06-18-2015-3741
END:VEVENT

END:VCALENDAR
