BEGIN:VCALENDAR
VERSION:2.0
PRODID:-//ChamberMaster//Event Calendar 2.0//EN
METHOD:PUBLISH
X-PUBLISHED-TTL:P3D
REFRESH-INTERVAL:P3D
CALSCALE:GREGORIAN
BEGIN:VEVENT
DTSTART:20080806T233000Z
DTEND:20080806T233000Z
X-MICROSOFT-CDO-ALLDAYEVENT:FALSE
SUMMARY:Forum-America's Oil Dependence
DESCRIPTION:America's Oil Dependence and \nWhat it Means for our Future A public forum led by Dr. Gal Luft\, Executive Director\, Institute for the Analysis of Global Security\,and Co-founder of the Set America Free Coalition  The Institute for the Analysis of Global Security is a Washington-based think tank focused on energy security.  Set America Free Coalition is an alliance of national security\, environmental\, lablor and religious groups promoting way sto reduce America's dependence on foreign oil. Dr. Luft specializes in strategy\, geopolitics\, terrorism\, energy security\, and economic warfare. Newsweek called him a "tireless and independent advocate of energy security\," the business magazine Poder called him "one of the most recognizable figures in modern energy and security issues\," and Esquire included him in its 2007 list of America's Best and Brightest. Dr. Luft has testified before committees of the US Congresss\, including the Senate Foreign Relations\, the House International Relations\, the House Science\, and the US-China Economic and Seucrity Review Commission\, and he advises both members of Congress and presidential candidates. Dr. Luft has published numerous studies and articles on security and energy issues in various newspapers and publications\, including The Washington Post\, LA Times\, and The Wall Street Journal.
X-ALT-DESC;FMTTYPE=text/html:<div align="center"><font color="#333399" size="4"><strong>America&rsquo\;s Oil Dependence and&nbsp\;<br />What it Means for our Future</strong></font></div><div>&nbsp\;</div><div align="center"><font color="#333399" size="3">A public forum led by </font></div><div align="center"><font color="#333399" size="4"><strong>Dr. Gal Luft\, </strong></font></div><div align="center"><font color="#333399">Executive Director\, Institute for the Analysis of Global Security\,</font></div><div align="center"><font color="#333399">and Co-founder of the Set America Free Coalition</font></div><div>&nbsp\;</div><div>&nbsp\;</div><div><font color="#333399">The Institute for the Analysis of Global Security is a Washington-based think tank focused on energy security.&nbsp\; Set America Free Coalition is an alliance of national security\, environmental\, lablor and religious groups promoting way sto reduce America&rsquo\;s dependence on foreign oil.</font></div><div>&nbsp\;</div><div><font color="#333399">Dr. Luft specializes in strategy\, geopolitics\, terrorism\, energy security\, and economic warfare. <em>Newsweek </em>called him a &quot\;tireless and independent advocate of energy security\,&quot\; the business magazine <em>Poder</em> called him &quot\;one of the most recognizable figures in modern energy and security issues\,&quot\; and <em>Esquire</em> included him in its 2007 list of America&rsquo\;s Best and Brightest.</font></div><div>&nbsp\;</div><div><font color="#333399">Dr. Luft has testified before committees of the US Congresss\, including the Senate Foreign Relations\, the House International Relations\, the House Science\, and the US-China Economic and Seucrity Review Commission\, and he advises both members of Congress and presidential candidates.</font></div><div>&nbsp\;</div><div><font color="#333399">Dr. Luft has published numerous studies and articles on security and energy issues in various newspapers and publications\, including <em>The Washington Post\, LA Times</em>\, and <em>The Wall Street Journal.</em></font></div><div>&nbsp\;</div>
LOCATION:Temple Emanu El 4545 Brainard Road Orange Village\, OH
UID:e.368.64
SEQUENCE:3
DTSTAMP:20260424T044107Z
URL:https://public.beachwood.org/events/details/forum-america-s-oil-dependence-08-06-2008-64
END:VEVENT

END:VCALENDAR
