BEGIN:VCALENDAR
VERSION:2.0
PRODID:-//ChamberMaster//Event Calendar 2.0//EN
METHOD:PUBLISH
X-PUBLISHED-TTL:P3D
REFRESH-INTERVAL:P3D
CALSCALE:GREGORIAN
BEGIN:VEVENT
DTSTART:20090401T213000Z
DTEND:20090402T013000Z
X-MICROSOFT-CDO-ALLDAYEVENT:FALSE
SUMMARY:Fool's Frolic: A gesture of giving for Shoes and Clothes for Kids
DESCRIPTION:Come be foolish with us as we raise funds for Shoes and Clothes for Kids. This is a one-of-a-kind event where jokers and jesters will fill your evening with fine fare\, open bar and live entertainment. The April Fools themed menu features a variety of decadent food creations by Moxie that will delight your taste buds. Event and raffle tickets can be reserved by calling Shoes and Clothes for Kids at 216.881.7463\, ext. 4. by March 27. Space is limited. All guests will receive complimentary valet parking and keepsake bag. \n\nRaffle grand prize is a trip to South Beach to experience the new Red The Steakhouse restaurant. Includes round-trip airfare for two\, courtesy of Continental Airlines\, and a three-night stay at the luxurious\, newly-renovated Eden Roc\, a Renaissance beach resort and spa. Other prizes include Saks Fifth Avenue shopping experience valued at $1\,500. Raffle tickets are $50 each or 3 for $100. Tickets may be purchased by mail or phone at 216.881.7463 x. 4 by March 27 or at the event. Winners will be drawn at Fool's Frolic but need not be present to win. More info at: http://www.tinyurl.com/sc4kraffle. \n\nSponsored by: Cleveland Clinic\, Forest City Enterprises\, Glenmede Investment and Wealth Management\, Strassman Insurance Services \n\nABOUT SHOES AND CLOTHES FOR KIDS: Shoes and Clothes for Kids (SC4K) is the only non-profit organization in Greater Cleveland providing new shoes and clothes at no charge throughout the year to thousands of children in need. Through a network of 35 distribution partners\, SC4K positively impacts the lives of area children by giving them the self-esteem and confidence that comes from having new shoes and clothes. Founded as Shoes for Kids in 1969 by Morrie Sayre\, 2009 marks SC4K?s fortieth year of service to Greater Cleveland?s families.
X-ALT-DESC;FMTTYPE=text/html:Come be foolish with us as we raise funds for Shoes and Clothes for Kids. This is a one-of-a-kind event where jokers and jesters will fill your evening with fine fare\, open bar and live entertainment. The April Fools themed menu features a variety of decadent food creations by Moxie that will delight your taste buds. Event and raffle tickets can be reserved by calling Shoes and Clothes for Kids at 216.881.7463\, ext. 4. by March 27. Space is limited. All guests will receive complimentary valet parking and keepsake bag. \n\nRaffle grand prize is a trip to South Beach to experience the new Red The Steakhouse restaurant. Includes round-trip airfare for two\, courtesy of Continental Airlines\, and a three-night stay at the luxurious\, newly-renovated Eden Roc\, a Renaissance beach resort and spa. Other prizes include Saks Fifth Avenue shopping experience valued at $1\,500. Raffle tickets are $50 each or 3 for $100. Tickets may be purchased by mail or phone at 216.881.7463 x. 4 by March 27 or at the event. Winners will be drawn at Fool's Frolic but need not be present to win. More info at: http://www.tinyurl.com/sc4kraffle. \n\nSponsored by: Cleveland Clinic\, Forest City Enterprises\, Glenmede Investment and Wealth Management\, Strassman Insurance Services \n\nABOUT SHOES AND CLOTHES FOR KIDS: Shoes and Clothes for Kids (SC4K) is the only non-profit organization in Greater Cleveland providing new shoes and clothes at no charge throughout the year to thousands of children in need. Through a network of 35 distribution partners\, SC4K positively impacts the lives of area children by giving them the self-esteem and confidence that comes from having new shoes and clothes. Founded as Shoes for Kids in 1969 by Morrie Sayre\, 2009 marks SC4K?s fortieth year of service to Greater Cleveland?s families.
LOCATION:Moxie\, The Restaurant\; 3355 Richmond Rd.\, Beachwood\, OH 44122
UID:e.368.173
SEQUENCE:3
DTSTAMP:20260423T203847Z
URL:https://public.beachwood.org/events/details/fool-s-frolic-a-gesture-of-giving-for-shoes-and-clothes-for-kids-04-01-2009-173
END:VEVENT

END:VCALENDAR
