BEGIN:VCALENDAR
VERSION:2.0
PRODID:-//ChamberMaster//Event Calendar 2.0//EN
METHOD:PUBLISH
X-PUBLISHED-TTL:P3D
REFRESH-INTERVAL:P3D
CALSCALE:GREGORIAN
BEGIN:VEVENT
DTSTART:20190530T150000Z
DTEND:20190530T180000Z
X-MICROSOFT-CDO-ALLDAYEVENT:FALSE
SUMMARY:Food Truck Thursdays "Eats & Meets"
DESCRIPTION:'BON APPETIT' AT THURSDAY EATS & MEETS:\n\n\n\nThis week: SmashTime Food Truck and CLE Cookie Dough Co.\n\n\n\nSeeking more sunshine\, fresh air\, and exciting new lunch options? Beginning May 2nd\, leave your brown bags at home and join us for Thursday Eats & Meets. Food trucks will park behind The Orlean Company at 23875 Commerce Park every Thursday from 11:00 AM   2:00 PM.\n\n \n\nThis summer\, post the "Back in 15" at your desk\, put your wallet in the pocket of your stretchiest pants\, and nosh with your neighbors! \n\n \n\nThursday Eats & Meets is presented by the Beachwood Chamber of Commerce and The Orlean Company.\n\n\n\nNo RSVPs needed!
X-ALT-DESC;FMTTYPE=text/html:<strong><span style="color:#1F497D\;">&lsquo\;BON APPETIT&rsquo\; AT THURSDAY EATS &amp\; MEETS:</span></strong><br />\n<br />\n<strong>This week: SmashTime Food Truck and CLE Cookie Dough Co</strong>.<br />\n<br />\n<span style="color:#1F497D\;">Seeking more sunshine\, fresh air\, and exciting new lunch options? Beginning May 2<sup>nd</sup>\, leave your brown bags at home and join us for Thursday Eats &amp\; Meets. Food trucks will park behind The Orlean Company at 23875 Commerce Park every Thursday from 11:00 AM &ndash\; 2:00 PM.</span><br />\n&nbsp\;<br />\n<span style="color:#1F497D\;">This summer\, post the &ldquo\;Back in 15&rdquo\; at your desk\, put your wallet in the pocket of your stretchiest pants\, and nosh with your neighbors! </span><br />\n&nbsp\;<br />\n<span style="color:#1F497D\;">Thursday Eats &amp\; Meets is presented by the Beachwood Chamber of Commerce and The Orlean Company.</span><br />\n<br />\nNo RSVPs needed!
LOCATION:The Orlean Company 23875 Commerce Park (behind the building) Beachwood
UID:e.368.8065
SEQUENCE:3
DTSTAMP:20260420T082827Z
URL:https://public.beachwood.org/events/details/food-truck-thursdays-at-commerce-park-05-30-2019-8065
END:VEVENT

END:VCALENDAR
