BEGIN:VCALENDAR
VERSION:2.0
PRODID:-//ChamberMaster//Event Calendar 2.0//EN
METHOD:PUBLISH
X-PUBLISHED-TTL:P3D
REFRESH-INTERVAL:P3D
CALSCALE:GREGORIAN
BEGIN:VEVENT
DTSTART:20220729T160000Z
DTEND:20220729T173000Z
X-MICROSOFT-CDO-ALLDAYEVENT:FALSE
SUMMARY:Food Truck Friday Networking Luncheon
DESCRIPTION:Join us for a casual summer networking luncheon during Food Truck Friday in the parking lot of BuyRite. This is a free event and attendees are welcome to purchase whatever they would like from the featured food truck\, Southern Thangs. \n\n\n\nBring a lawn chair\, and join us to enjoy a summer afternoon of food and networking with other Beachwood area professionals.
X-ALT-DESC;FMTTYPE=text/html:Join us for a casual summer networking luncheon during Food Truck Friday in the parking lot of <a href="https://www.buyriteoffice.com/">BuyRite</a>. This is a free event and attendees are welcome to purchase whatever they would like from the featured food truck\, <a href="https://www.facebook.com/SouhernThangsFoodTruck/">Southern Thangs</a>.&nbsp\;<br />\n<br />\nBring a lawn chair\, and join us to enjoy a summer afternoon of food and networking with other Beachwood area professionals.&nbsp\;
LOCATION:Buyrite Parking Lot 23715 Mercantile Rd. Beachwood\, OH 44122
UID:e.368.8511
SEQUENCE:3
DTSTAMP:20260422T013804Z
URL:https://public.beachwood.org/events/details/food-truck-friday-networking-luncheon-8511
END:VEVENT

END:VCALENDAR
