BEGIN:VCALENDAR
VERSION:2.0
PRODID:-//ChamberMaster//Event Calendar 2.0//EN
METHOD:PUBLISH
X-PUBLISHED-TTL:P3D
REFRESH-INTERVAL:P3D
CALSCALE:GREGORIAN
BEGIN:VEVENT
DTSTART:20151001T140000Z
DTEND:20151005T013000Z
X-MICROSOFT-CDO-ALLDAYEVENT:FALSE
SUMMARY:Food\, Fun\, & Fashion Week
DESCRIPTION:Food\, Fun & Fashion Week celebrates a community appreciative of great food\, fine wine and good living.  We welcome you to enjoy the unique and delicious flavors\, entertaining conversations and great hospitality. Explore world-class museums\, orchestras\, beautiful gardens\, fabulous shopping\, award winning restaurants\, gaming\, theater\, jazz\, parks and historical sites. Create the perfect get away for a day or long weekend!\n\n\n\nStay in one or 8 hotels Aloft Beachwood\, Clarion Hotel\, DoubleTree by Hilton\, Embassy Suites\, Fairfield Inn & Suites\, Homewood Suites by Hilton\, Hotel Indigo and Residence Inn by Marriott.  Special packages are available. \n\n\n\nVisit the Food\, Fun\, & Fashion Week calendar for the full list of events.
X-ALT-DESC;FMTTYPE=text/html:<p><span style="color:black\; font-family:verdana\,sans-serif\; font-size:8.5pt">Food\, Fun &amp\; Fashion Week celebrates a community appreciative of great food\, fine wine and good living.&nbsp\; We welcome you to enjoy the unique and delicious flavors\, entertaining conversations and great hospitality.&nbsp\;Explore world-class museums\, orchestras\, beautiful gardens\, fabulous shopping\, award winning restaurants\, gaming\, theater\, jazz\, parks and historical sites.&nbsp\;Create the perfect get away for a day or long weekend!<br />\n<br />\nStay in one or 8 hotels Aloft Beachwood\, Clarion Hotel\, DoubleTree by Hilton\, Embassy Suites\, Fairfield Inn &amp\; Suites\, Homewood Suites by Hilton\, Hotel Indigo and Residence Inn by Marriott.&nbsp\; Special packages are available.&nbsp\;<br />\n<br />\nVisit the <a href="http://visitbeachwoodohio.com/2015-food-fun-fashion1/">Food\, Fun\, &amp\; Fashion Week</a> calendar for the full list of events.</span></p>\n
LOCATION:Venues in and around Beachwood
UID:e.368.3779
SEQUENCE:3
DTSTAMP:20260420T043815Z
URL:https://public.beachwood.org/events/details/food-fun-fashion-week-10-01-2015-3779
END:VEVENT

END:VCALENDAR
