BEGIN:VCALENDAR
VERSION:2.0
PRODID:-//ChamberMaster//Event Calendar 2.0//EN
METHOD:PUBLISH
X-PUBLISHED-TTL:P3D
REFRESH-INTERVAL:P3D
CALSCALE:GREGORIAN
BEGIN:VEVENT
DTSTART:20160915T153000Z
DTEND:20160915T173000Z
X-MICROSOFT-CDO-ALLDAYEVENT:FALSE
SUMMARY:Fire Truck Pizza Food Truck
DESCRIPTION:Connections Experience Team\n\ninvites you to\n\n\n\nFire Truck Pizza Food Truck\n\nat 24200 Chagrin Blvd.\n\n(in the back of the parking lot)\n\n\n\nEnjoy a variety of pizzas made to order.
X-ALT-DESC;FMTTYPE=text/html:<strong>Connections Experience Team</strong><br />\ninvites you to<br />\n<br />\n<strong>Fire Truck Pizza Food Truck</strong><br />\nat 24200 Chagrin Blvd.<br />\n(in the back of the parking lot)<br />\n<br />\nEnjoy a variety of pizzas made to order.<br />\n&nbsp\;
LOCATION:24200 Chagrin Blvd. In rear of parking lot
UID:e.368.6038
SEQUENCE:3
DTSTAMP:20260420T182345Z
URL:https://public.beachwood.org/events/details/fire-truck-pizza-food-truck-6038
END:VEVENT

END:VCALENDAR
