BEGIN:VCALENDAR
VERSION:2.0
PRODID:-//ChamberMaster//Event Calendar 2.0//EN
METHOD:PUBLISH
X-PUBLISHED-TTL:P3D
REFRESH-INTERVAL:P3D
CALSCALE:GREGORIAN
BEGIN:VEVENT
DTSTART:20230816T153000Z
DTEND:20230816T173000Z
X-MICROSOFT-CDO-ALLDAYEVENT:FALSE
SUMMARY:Federal Reserve Bank at Chamber Luncheon
DESCRIPTION:Join Us for the August  Chamber Luncheon with Special Guest Speakers:\n\nThe Federal Reserve Bank of Cleveland and Professional Organizer Missy Bystrom\n\n\n\nDear Chamber Members\,\n\n\n\nWe are thrilled to extend a warm invitation to you and your organization to join us for our August \n\nLuncheon Event.  The Luncheon promises to be an engaging and enlightening affair as we are honored to have a distinguished guest speaker from the Federal Reserve Bank of Cleveland and Business Entrepreneur Missy Bystrom.  \n\nLuncheon topics:\n\n\n\n1.  Federal Reserve Bank of Cleveland\, Ms. Marissa Piazza\, Sr. Community Development Analyst\,        \n\n     (a) Recent trends affecting lower income workers and communities and (b) Small Business\n\n           Credit Survey of businesses under 500 employees.               \n\n                            \n\n2.  Ms. Missy Bystrom\, Business Entrepreneur\, "The Cost of Interruption in the Work Day" \n\n\n\nThis Luncheon offers an excellent opportunity to network with fellow chamber members and community business leaders from various industries. Moreover\, it provides a platform for valuable discussions\, fostering collaboration\, and exploring potential partnerships.\n\nWe look forward to your presence at this exciting Chamber Luncheon.  Let's come together to gain valuable insights and strengthen the bond within our thriving business community.\n\n\n\nSeating for this event is limited\, so please visit our website at http://www.beachwood.org and sign up using our Events calendar.\n\n\n\nDon't forget to bring your business cards for our special drawings:   (1) 5000 Marriott Bonvoy Rewards Points\, and (2) one free overnight stay at the Beachwood Courtyard.\n\n\n\nThank you for your continuous support\, and we eagerly anticipate your presence at the event.\n\n\n\nWarm regards\,\n\n\n\nDavid Lapierre\n\nExecutive Director\n\ndirector@beachwood.org\n\n216-831-0003
X-ALT-DESC;FMTTYPE=text/html:<strong>Join Us for the August &nbsp\;Chamber Luncheon with Special Guest Speakers:<br />\nThe Federal Reserve Bank of Cleveland and Professional Organizer Missy Bystrom</strong><br />\n<br />\nDear Chamber Members\,<br />\n<br />\nWe are thrilled to extend a warm invitation to you and your organization to join us for our August&nbsp\;<br />\nLuncheon Event. &nbsp\;The Luncheon promises to be an engaging and enlightening affair as we are honored to have a distinguished guest speaker from the Federal Reserve Bank of Cleveland&nbsp\;and Business Entrepreneur Missy Bystrom. &nbsp\;<br />\nLuncheon topics:<br />\n<br />\n<strong>1. &nbsp\;Federal Reserve Bank of Cleveland\, Ms. Marissa Piazza\, Sr. Community Development Analyst\, &nbsp\;</strong><b>&nbsp\;</b>&nbsp\; &nbsp\;&nbsp\;<strong>&nbsp\;<br />\n&nbsp\; &nbsp\; &nbsp\;(a) Recent trends affecting lower income workers and communities and (b) Small Business<br />\n&#8203\; &nbsp\; &nbsp\; &nbsp\; &nbsp\; &nbsp\;Credit Survey of businesses under 500 employees.&nbsp\; &nbsp\; &nbsp\; &nbsp\; &nbsp\; &nbsp\; &nbsp\; &nbsp\;<br />\n&nbsp\; &nbsp\; &nbsp\; &nbsp\; &nbsp\; &nbsp\; &nbsp\; &nbsp\; &nbsp\; &nbsp\; &nbsp\; &nbsp\; &nbsp\; &nbsp\;&nbsp\;</strong><br />\n<strong>2</strong>. &nbsp\;<strong>Ms. Missy Bystrom\, Business&nbsp\;Entrepreneur\,&nbsp\;&quot\;The Cost of Interruption in the Work Day&quot\;&nbsp\;</strong><br />\n<br />\nThis Luncheon offers an excellent opportunity to network with fellow chamber members and community business leaders from various industries. Moreover\, it provides a platform for valuable discussions\, fostering collaboration\, and exploring potential partnerships.<br />\nWe look forward to your presence at this exciting Chamber Luncheon. &nbsp\;Let&#39\;s come together to gain valuable insights and strengthen the bond within our thriving business community.<br />\n<br />\nSeating for this event is limited\, so please visit our website at <a href="http://www.beachwood.org">http://www.beachwood.org</a><b>&nbsp\;</b>and sign up using our Events calendar.<br />\n<br />\n<strong>Don&#39\;t forget to bring your business cards for our special drawings: &nbsp\; (1) 5000 Marriott Bonvoy Rewards Points\, and (2) one free overnight stay at the Beachwood Courtyard.</strong><br />\n<br />\nThank you for your continuous support\, and we eagerly anticipate your presence at the event.<br />\n<br />\nWarm regards\,<br />\n<br />\nDavid Lapierre<br />\nExecutive Director<br />\ndirector@beachwood.org<br />\n216-831-0003<br />\n<br />\n<br />\n<br />\n&nbsp\;
LOCATION:Marriott Courtyard 3695 Orange Place Beachwood\, OH. 44122
UID:e.368.8649
SEQUENCE:3
DTSTAMP:20260424T182351Z
URL:https://public.beachwood.org/events/details/federal-reserve-bank-at-chamber-luncheon-8649
END:VEVENT

END:VCALENDAR
