BEGIN:VCALENDAR
VERSION:2.0
PRODID:-//ChamberMaster//Event Calendar 2.0//EN
METHOD:PUBLISH
X-PUBLISHED-TTL:P3D
REFRESH-INTERVAL:P3D
CALSCALE:GREGORIAN
BEGIN:VEVENT
DTSTART:20190206T163000Z
DTEND:20190206T180000Z
X-MICROSOFT-CDO-ALLDAYEVENT:FALSE
SUMMARY:February 2019 Western Reserve Safety Council Meeting
DESCRIPTION:Topic:  Mock Industrial Commission Hearing - How is a Worker's Comp Claim Adjudicated? \n\nSpeaker: Debra Lynch - Ohio Industrial Commission Cleveland\n\nCLICK HERE TO REGISTER
X-ALT-DESC;FMTTYPE=text/html:<h1><strong>Topic:&nbsp\; Mock Industrial Commission Hearing - How is a Worker&#39\;s Comp Claim Adjudicated? </strong></h1>\n\n<h2><strong><span style="font-family: arial\; font-size: 14px\;"><span style="font-size: 16px\;">Speaker: Debra Lynch - Ohio Industrial Commission Cleveland</span></span></strong></h2>\n\n<p><a href="http://westernreservesc.org/wrsc/"><span style="font-size:18px\;"><span style="color:#FF0000\;"><strong>CLICK HERE TO REGISTER</strong></span></span></a></p>\n
LOCATION:Mustard Seed Market & Cafe (second floor) 6025 Kruse Drive Solon\, OH 44139
UID:e.368.6955
SEQUENCE:3
DTSTAMP:20260420T095642Z
URL:https://public.beachwood.org/events/details/february-2019-western-reserve-safety-council-meeting-6955
END:VEVENT

END:VCALENDAR
