BEGIN:VCALENDAR
VERSION:2.0
PRODID:-//ChamberMaster//Event Calendar 2.0//EN
METHOD:PUBLISH
X-PUBLISHED-TTL:P3D
REFRESH-INTERVAL:P3D
CALSCALE:GREGORIAN
BEGIN:VEVENT
DTSTART:20170201T220000Z
DTEND:20170201T233000Z
X-MICROSOFT-CDO-ALLDAYEVENT:FALSE
SUMMARY:February 2017 Networking After Five
DESCRIPTION:Beachwood Chamber Networking After Five: Wednesday\, February 1\, 2017\n\nONLINE REGISTRATION CLOSED. WALK-INS WELCOME!\n\n\n\nStart the month by joining us for our Annual Networking After Five event at 2 Tone Boxing Club\n\n \n\nEnjoy ...\n\n\n	Light refreshments will be served.\n	Learn new networking tips and tricks\n	 Drop your business card for a chance to win a gift certificate\n	You won't want to miss your chance to win cash.  Every Beachwood Chamber member company name is placed in a hopper.  If your company name is pulled from the hopper and you are in attendance\, you win cash. If you were not there\, the current cash goes back into the pot and $25 more is added the next month!   It continues each month until there is a winner\, then we start again at $25. The February drawing winner will receive $350!  Remember\, you must be in attendance to win!
X-ALT-DESC;FMTTYPE=text/html:<p><span style="color:#0033cc\;"><strong>Beachwood Chamber Networking After Five: Wednesday\, February 1\, 2017</strong></span></p>\n\n<p><strong><span style="color:#800000\;">ONLINE REGISTRATION CLOSED. WALK-INS WELCOME!</span></strong><br />\n<br />\nStart the month by joining us for our Annual Networking After Five event<strong> </strong>at<strong> 2 Tone Boxing Club</strong><br />\n&nbsp\;<br />\nEnjoy ...</p>\n\n<ul>\n	<li>Light refreshments will be served.</li>\n	<li>Learn new networking tips and tricks</li>\n	<li>&nbsp\;Drop your business card for a chance to win a gift certificate</li>\n	<li>You won&#39\;t want to miss your chance to win<em> cash</em>.&nbsp\; Every Beachwood Chamber member company name is placed in a hopper.&nbsp\; If your company name is pulled from the hopper and you are in attendance\, you win cash. If you were not there\, the current cash goes back into the pot and $25 more is added the next month! &nbsp\; It continues each month until there is a winner\, then we start again at $25. The February drawing winner will receive $350!&nbsp\; Remember\, you must be in attendance to win!</li>\n</ul>\n
LOCATION:2 Tone Boxing Club 23307B Commerce Park Beachwood\, OH 44122
UID:e.368.6253
SEQUENCE:3
DTSTAMP:20260421T011709Z
URL:https://public.beachwood.org/events/details/february-2017-networking-after-five-6253
END:VEVENT

END:VCALENDAR
