BEGIN:VCALENDAR
VERSION:2.0
PRODID:-//ChamberMaster//Event Calendar 2.0//EN
METHOD:PUBLISH
X-PUBLISHED-TTL:P3D
REFRESH-INTERVAL:P3D
CALSCALE:GREGORIAN
BEGIN:VEVENT
DTSTART:20140615T180000Z
DTEND:20140615T193000Z
X-MICROSOFT-CDO-ALLDAYEVENT:FALSE
SUMMARY:Father's Day Music: The Look of Love- The Songs of Burt Bacharach
DESCRIPTION:Tara Hawley and the Matt Skitzki Trio  explore the works of legendary songwriter/pianist/arranger/producer Burt Bacharach. Sponsored by the Friends of the Library.\n\nreservations at www.cuyahogalibrary\,org or call 216-831-6868. Seating is on a first come first serve basis
X-ALT-DESC;FMTTYPE=text/html:Tara Hawley and the Matt Skitzki Trio&nbsp\; explore the works of legendary songwriter/pianist/arranger/producer Burt Bacharach. Sponsored by the Friends of the Library.<br />\nreservations at www.cuyahogalibrary\,org or call 216-831-6868. Seating is on a first come first serve basis
LOCATION:Beachwood Branch of Cuyahoga County Public Library 25501 Shaker Blvd Beachwood OH 44122
UID:e.368.1103
SEQUENCE:3
DTSTAMP:20260420T061044Z
URL:https://public.beachwood.org/events/details/father-s-day-music-the-look-of-love-the-songs-of-burt-bacharach-06-15-2014-1103
END:VEVENT

END:VCALENDAR
