BEGIN:VCALENDAR
VERSION:2.0
PRODID:-//ChamberMaster//Event Calendar 2.0//EN
METHOD:PUBLISH
X-PUBLISHED-TTL:P3D
REFRESH-INTERVAL:P3D
CALSCALE:GREGORIAN
BEGIN:VEVENT
DTSTART:20150819T143000Z
DTEND:20150819T173000Z
X-MICROSOFT-CDO-ALLDAYEVENT:FALSE
SUMMARY:Farmers Market at Cleveland Clinic Beachwood
DESCRIPTION:The North Union Farmers Market\n\nat the\n\nCleveland Clinic Beachwood Family Health Center\n\nwill provide you with seasonal farm goods\, harvested at their peak!  Buy fresh\, healthy produce grown within 150 miles of our markets.\n\n\n\nAlso enjoy free health information\, screenings\, demonstrations\, samples\, and "green" giveaways from Cleveland Clinic caregivers.\n\n\n\nEvery Wednesday through September 16th from 11:30 AM to 1:30 PM.
X-ALT-DESC;FMTTYPE=text/html:The North Union Farmers Market<br />\nat the<br />\nCleveland Clinic Beachwood Family Health Center<br />\nwill provide you with seasonal farm goods\, harvested at their peak!&nbsp\; Buy fresh\, healthy produce grown within 150 miles of our markets.<br />\n<br />\nAlso enjoy free health information\, screenings\, demonstrations\, samples\, and &quot\;green&quot\; giveaways from Cleveland Clinic caregivers.<br />\n<br />\nEvery Wednesday through September 16th from 11:30 AM to 1:30 PM.
LOCATION:Cleveland Clinic Beachwood Family Health Center 26900 Cedar Road Beachwood
UID:e.368.3782
SEQUENCE:3
DTSTAMP:20260420T003341Z
URL:https://public.beachwood.org/events/details/farmers-market-at-cleveland-clinic-beachwood-08-19-2015-3782
END:VEVENT

END:VCALENDAR
