BEGIN:VCALENDAR
VERSION:2.0
PRODID:-//ChamberMaster//Event Calendar 2.0//EN
METHOD:PUBLISH
X-PUBLISHED-TTL:P3D
REFRESH-INTERVAL:P3D
CALSCALE:GREGORIAN
BEGIN:VEVENT
DTSTART:20080620T190000Z
DTEND:20080620T210000Z
X-MICROSOFT-CDO-ALLDAYEVENT:FALSE
SUMMARY:Event at Passport Health Northern Ohio
DESCRIPTION:Meet and Greet for interested RNs.  Nurses will learn about opportunities to contract services part time for Fall Flu Clinics at businesses\, schools\, churches\, community centers\, and senior centers in Greater Cleveland area.  Refreshments served.  Bring your resume and RN license.
X-ALT-DESC;FMTTYPE=text/html:Meet and Greet for interested RNs.  Nurses will learn about opportunities to contract services part time for Fall Flu Clinics at businesses\, schools\, churches\, community centers\, and senior centers in Greater Cleveland area.  Refreshments served.  Bring your resume and RN license.
LOCATION:Beachwood Chamber of Commerce
UID:e.368.36
SEQUENCE:3
DTSTAMP:20260424T071855Z
URL:https://public.beachwood.org/events/details/event-at-passport-health-northern-ohio-06-20-2008-36
END:VEVENT

END:VCALENDAR
