BEGIN:VCALENDAR
VERSION:2.0
PRODID:-//ChamberMaster//Event Calendar 2.0//EN
METHOD:PUBLISH
X-PUBLISHED-TTL:P3D
REFRESH-INTERVAL:P3D
CALSCALE:GREGORIAN
BEGIN:VEVENT
DTSTART;VALUE=DATE:20080611
DTEND;VALUE=DATE:20080612
TRANSP:TRANSPARENT
X-MICROSOFT-CDO-ALLDAYEVENT:TRUE
SUMMARY:Event at National City Bank-Woodmere
DESCRIPTION:Customer Appreciation Day at National City Bank - Woodmere office
X-ALT-DESC;FMTTYPE=text/html:Customer Appreciation Day at National City Bank - Woodmere office
LOCATION:27359 Chagrin Blvd. Woodmere\, oh 44124
UID:e.368.17
SEQUENCE:3
DTSTAMP:20260424T071942Z
URL:https://public.beachwood.org/events/details/event-at-national-city-bank-woodmere-06-11-2008-17
END:VEVENT

END:VCALENDAR
