BEGIN:VCALENDAR
VERSION:2.0
PRODID:-//ChamberMaster//Event Calendar 2.0//EN
METHOD:PUBLISH
X-PUBLISHED-TTL:P3D
REFRESH-INTERVAL:P3D
CALSCALE:GREGORIAN
BEGIN:VEVENT
DTSTART:20081022T210000Z
DTEND:20081022T230000Z
X-MICROSOFT-CDO-ALLDAYEVENT:FALSE
SUMMARY:Event at Maggiano's Little Italy
DESCRIPTION:Cooking with our Chef every Wednesday in the Lobby of Maggiano's. Complimentary tasting of food and wine. Free valet parking for all.
X-ALT-DESC;FMTTYPE=text/html:<div>Cooking with our Chef every Wednesday in the Lobby of Maggiano&rsquo\;s. Complimentary tasting of food and wine. Free valet parking for all.</div>
LOCATION:Maggiano's Little ItalyBeachwood Place Mall
UID:e.368.99
SEQUENCE:3
DTSTAMP:20260424T021255Z
URL:https://public.beachwood.org/events/details/event-at-maggiano-s-little-italy-10-22-2008-99
END:VEVENT

END:VCALENDAR
