BEGIN:VCALENDAR
VERSION:2.0
PRODID:-//ChamberMaster//Event Calendar 2.0//EN
METHOD:PUBLISH
X-PUBLISHED-TTL:P3D
REFRESH-INTERVAL:P3D
CALSCALE:GREGORIAN
BEGIN:VEVENT
DTSTART:20140425T230000Z
DTEND:20140426T020000Z
X-MICROSOFT-CDO-ALLDAYEVENT:FALSE
SUMMARY:Event at Linking Employment\, Abilities and Potential (LEAP)
DESCRIPTION:LEAP's Second Annual Trivia Night
X-ALT-DESC;FMTTYPE=text/html:<p>\n	LEAP&#39\;s Second Annual Trivia Night</p>\n
LOCATION:Trinity Commons\, Cathedral Hall\, 2230 Euclid Avenue\,Cleveland
UID:e.368.1070
SEQUENCE:3
DTSTAMP:20260420T090555Z
URL:https://public.beachwood.org/events/details/event-at-linking-employment-abilities-and-potential-leap-04-25-2014-1070
END:VEVENT

END:VCALENDAR
