BEGIN:VCALENDAR
VERSION:2.0
PRODID:-//ChamberMaster//Event Calendar 2.0//EN
METHOD:PUBLISH
X-PUBLISHED-TTL:P3D
REFRESH-INTERVAL:P3D
CALSCALE:GREGORIAN
BEGIN:VEVENT
DTSTART:20140518T220000Z
DTEND:20140519T020000Z
X-MICROSOFT-CDO-ALLDAYEVENT:FALSE
SUMMARY:Event at Congregation Shaarey Tikvah
DESCRIPTION:A Kosher Taste of Cleveland! Shaarey Tikvah's signature fundraising event!\n\n\n\nEight great local restaurants prepare delicious dinners and side dishes with a Kosher flare. Wine\, cocktails\, live music\, silent auction and good freinds. You certainly don't have to be Jewish to enjoy this fabulous event - now in its eighth year.\n\n\n\nThis event has SOLD OUT each year. Book early!
X-ALT-DESC;FMTTYPE=text/html:A Kosher Taste of Cleveland! Shaarey Tikvah&#39\;s signature fundraising event!<br />\n<br />\nEight great local restaurants prepare delicious dinners and side dishes with a Kosher flare. Wine\, cocktails\, live music\, silent auction and good freinds. You certainly don&#39\;t have to be Jewish to enjoy this fabulous event - now in its eighth year.<br />\n<br />\nThis event has SOLD OUT each year. Book early!
LOCATION:Congregation Shaarey Tikvah\, 26811 Fairmount Blvd\, Beachwood\, OH 44122
UID:e.368.1124
SEQUENCE:3
DTSTAMP:20260420T073817Z
URL:https://public.beachwood.org/events/details/event-at-congregation-shaarey-tikvah-05-18-2014-1124
END:VEVENT

END:VCALENDAR
